BEGIN:VCALENDAR
VERSION:2.0
PRODID:-//Welcome to GeoWarehouse - ECPv6.15.20//NONSGML v1.0//EN
CALSCALE:GREGORIAN
METHOD:PUBLISH
X-WR-CALNAME:Welcome to GeoWarehouse
X-ORIGINAL-URL:https://www2.geowarehouse.ca
X-WR-CALDESC:Events for Welcome to GeoWarehouse
REFRESH-INTERVAL;VALUE=DURATION:PT1H
X-Robots-Tag:noindex
X-PUBLISHED-TTL:PT1H
BEGIN:VTIMEZONE
TZID:America/Toronto
BEGIN:DAYLIGHT
TZOFFSETFROM:-0500
TZOFFSETTO:-0400
TZNAME:EDT
DTSTART:20230312T070000
END:DAYLIGHT
BEGIN:STANDARD
TZOFFSETFROM:-0400
TZOFFSETTO:-0500
TZNAME:EST
DTSTART:20231105T060000
END:STANDARD
BEGIN:DAYLIGHT
TZOFFSETFROM:-0500
TZOFFSETTO:-0400
TZNAME:EDT
DTSTART:20240310T070000
END:DAYLIGHT
BEGIN:STANDARD
TZOFFSETFROM:-0400
TZOFFSETTO:-0500
TZNAME:EST
DTSTART:20241103T060000
END:STANDARD
BEGIN:DAYLIGHT
TZOFFSETFROM:-0500
TZOFFSETTO:-0400
TZNAME:EDT
DTSTART:20250309T070000
END:DAYLIGHT
BEGIN:STANDARD
TZOFFSETFROM:-0400
TZOFFSETTO:-0500
TZNAME:EST
DTSTART:20251102T060000
END:STANDARD
BEGIN:DAYLIGHT
TZOFFSETFROM:-0500
TZOFFSETTO:-0400
TZNAME:EDT
DTSTART:20260308T070000
END:DAYLIGHT
BEGIN:STANDARD
TZOFFSETFROM:-0400
TZOFFSETTO:-0500
TZNAME:EST
DTSTART:20261101T060000
END:STANDARD
END:VTIMEZONE
BEGIN:VEVENT
DTSTART;TZID=America/Toronto:20250226T150000
DTEND;TZID=America/Toronto:20250226T153000
DTSTAMP:20260425T070900
CREATED:20250127T204833Z
LAST-MODIFIED:20250127T204833Z
UID:10000376-1740582000-1740583800@www2.geowarehouse.ca
SUMMARY:GeoWarehouse Webinar: HoodQ Reports & School Catchment Mapping
DESCRIPTION:
URL:https://www2.geowarehouse.ca/session/geowarehouse-webinar-hoodq-reports-school-catchment-mapping-2/
ATTACH;FMTTYPE=image/jpeg:https://www2.geowarehouse.ca/wp-content/uploads/2012/11/GW-Generic-Blog-Thumbnail-1200x627_v02.jpg
END:VEVENT
BEGIN:VEVENT
DTSTART;TZID=America/Toronto:20250226T140000
DTEND;TZID=America/Toronto:20250226T143000
DTSTAMP:20260425T070900
CREATED:20250127T204339Z
LAST-MODIFIED:20250127T204339Z
UID:10000371-1740578400-1740580200@www2.geowarehouse.ca
SUMMARY:GeoWarehouse Webinar: Teranet Property Insights Report
DESCRIPTION:
URL:https://www2.geowarehouse.ca/session/geowarehouse-webinar-teranet-property-insights-report/
ATTACH;FMTTYPE=image/jpeg:https://www2.geowarehouse.ca/wp-content/uploads/2012/11/GW-Generic-Blog-Thumbnail-1200x627_v02.jpg
END:VEVENT
BEGIN:VEVENT
DTSTART;TZID=America/Toronto:20250226T100000
DTEND;TZID=America/Toronto:20250226T113000
DTSTAMP:20260425T070900
CREATED:20250127T202520Z
LAST-MODIFIED:20250127T202520Z
UID:10000359-1740564000-1740569400@www2.geowarehouse.ca
SUMMARY:Advanced level focusing on mastering GeoWarehouse\, optimizing its use and solving complex challenges
DESCRIPTION:
URL:https://www2.geowarehouse.ca/session/advanced-level-focusing-on-mastering-geowarehouse-optimizing-its-use-and-solving-complex-challenges/
ATTACH;FMTTYPE=image/jpeg:https://www2.geowarehouse.ca/wp-content/uploads/2012/11/GW-Generic-Blog-Thumbnail-1200x627_v02.jpg
END:VEVENT
BEGIN:VEVENT
DTSTART;TZID=America/Toronto:20250225T140000
DTEND;TZID=America/Toronto:20250225T143000
DTSTAMP:20260425T070900
CREATED:20250127T204547Z
LAST-MODIFIED:20250127T204547Z
UID:10000373-1740492000-1740493800@www2.geowarehouse.ca
SUMMARY:GeoWarehouse Webinar: Protect Your Boundaries™ Reports
DESCRIPTION:
URL:https://www2.geowarehouse.ca/session/geowarehouse-webinar-protect-your-boundaries-reports/
ATTACH;FMTTYPE=image/jpeg:https://www2.geowarehouse.ca/wp-content/uploads/2012/11/GW-Generic-Blog-Thumbnail-1200x627_v02.jpg
END:VEVENT
BEGIN:VEVENT
DTSTART;TZID=America/Toronto:20250219T140000
DTEND;TZID=America/Toronto:20250219T153000
DTSTAMP:20260425T070900
CREATED:20250127T201156Z
LAST-MODIFIED:20250127T201904Z
UID:10000357-1739973600-1739979000@www2.geowarehouse.ca
SUMMARY:Advanced Navigation and Intermediate Features
DESCRIPTION:
URL:https://www2.geowarehouse.ca/session/advanced-navigation-and-intermediate-features/
ATTACH;FMTTYPE=image/jpeg:https://www2.geowarehouse.ca/wp-content/uploads/2012/11/GW-Generic-Blog-Thumbnail-1200x627_v02.jpg
END:VEVENT
BEGIN:VEVENT
DTSTART;TZID=America/Toronto:20250218T140000
DTEND;TZID=America/Toronto:20250218T153000
DTSTAMP:20260425T070900
CREATED:20250127T203435Z
LAST-MODIFIED:20250127T203435Z
UID:10000365-1739887200-1739892600@www2.geowarehouse.ca
SUMMARY:Advanced level focusing on mastering GeoWarehouse\, optimizing its use and solving complex challenges for Agents
DESCRIPTION:
URL:https://www2.geowarehouse.ca/session/advanced-level-focusing-on-mastering-geowarehouse-optimizing-its-use-and-solving-complex-challenges-for-agents/
CATEGORIES:Agents Only
ATTACH;FMTTYPE=image/jpeg:https://www2.geowarehouse.ca/wp-content/uploads/2012/11/GW-Generic-Blog-Thumbnail-1200x627_v02.jpg
END:VEVENT
BEGIN:VEVENT
DTSTART;TZID=America/Toronto:20250212T140000
DTEND;TZID=America/Toronto:20250212T143000
DTSTAMP:20260425T070900
CREATED:20250127T203848Z
LAST-MODIFIED:20250127T203848Z
UID:10000367-1739368800-1739370600@www2.geowarehouse.ca
SUMMARY:GeoWarehouse Webinar: Mastering Title Check Tool
DESCRIPTION:
URL:https://www2.geowarehouse.ca/session/geowarehouse-webinar-mastering-title-check-tool/
ATTACH;FMTTYPE=image/jpeg:https://www2.geowarehouse.ca/wp-content/uploads/2012/11/GW-Generic-Blog-Thumbnail-1200x627_v02.jpg
END:VEVENT
BEGIN:VEVENT
DTSTART;TZID=America/Toronto:20250212T110000
DTEND;TZID=America/Toronto:20250212T123000
DTSTAMP:20260425T070900
CREATED:20250127T203221Z
LAST-MODIFIED:20250127T203221Z
UID:10000363-1739358000-1739363400@www2.geowarehouse.ca
SUMMARY:Advanced Navigation and Intermediate Features For Agents
DESCRIPTION:
URL:https://www2.geowarehouse.ca/session/advanced-navigation-and-intermediate-features-for-agents/
CATEGORIES:Agents Only
ATTACH;FMTTYPE=image/jpeg:https://www2.geowarehouse.ca/wp-content/uploads/2012/11/GW-Generic-Blog-Thumbnail-1200x627_v02.jpg
END:VEVENT
BEGIN:VEVENT
DTSTART;TZID=America/Toronto:20250211T140000
DTEND;TZID=America/Toronto:20250211T153000
DTSTAMP:20260425T070900
CREATED:20250127T200835Z
LAST-MODIFIED:20250127T200835Z
UID:10000355-1739282400-1739287800@www2.geowarehouse.ca
SUMMARY:Getting Started with GeoWarehouse
DESCRIPTION:
URL:https://www2.geowarehouse.ca/session/getting-started-with-geowarehouse-21/
ATTACH;FMTTYPE=image/jpeg:https://www2.geowarehouse.ca/wp-content/uploads/2012/11/GW-Generic-Blog-Thumbnail-1200x627_v02.jpg
END:VEVENT
BEGIN:VEVENT
DTSTART;TZID=America/Toronto:20250205T150000
DTEND;TZID=America/Toronto:20250205T153000
DTSTAMP:20260425T070900
CREATED:20250127T204736Z
LAST-MODIFIED:20250127T204736Z
UID:10000375-1738767600-1738769400@www2.geowarehouse.ca
SUMMARY:GeoWarehouse Webinar: HoodQ Reports & School Catchment Mapping
DESCRIPTION:
URL:https://www2.geowarehouse.ca/session/geowarehouse-webinar-hoodq-reports-school-catchment-mapping/
ATTACH;FMTTYPE=image/jpeg:https://www2.geowarehouse.ca/wp-content/uploads/2012/11/GW-Generic-Blog-Thumbnail-1200x627_v02.jpg
END:VEVENT
BEGIN:VEVENT
DTSTART;TZID=America/Toronto:20250205T140000
DTEND;TZID=America/Toronto:20250205T143000
DTSTAMP:20260425T070900
CREATED:20250127T204246Z
LAST-MODIFIED:20250127T204246Z
UID:10000370-1738764000-1738765800@www2.geowarehouse.ca
SUMMARY:GeoWarehouse Webinar: Teranet Property Insights Reports
DESCRIPTION:
URL:https://www2.geowarehouse.ca/session/geowarehouse-webinar-teranet-property-insights-reports/
ATTACH;FMTTYPE=image/jpeg:https://www2.geowarehouse.ca/wp-content/uploads/2012/11/GW-Generic-Blog-Thumbnail-1200x627_v02.jpg
END:VEVENT
BEGIN:VEVENT
DTSTART;TZID=America/Toronto:20250204T140000
DTEND;TZID=America/Toronto:20250204T153000
DTSTAMP:20260425T070900
CREATED:20250127T203011Z
LAST-MODIFIED:20250127T203011Z
UID:10000361-1738677600-1738683000@www2.geowarehouse.ca
SUMMARY:Getting Started with GeoWarehouse For Agents
DESCRIPTION:
URL:https://www2.geowarehouse.ca/session/getting-started-with-geowarehouse-for-agents/
CATEGORIES:Agents Only
ATTACH;FMTTYPE=image/jpeg:https://www2.geowarehouse.ca/wp-content/uploads/2012/11/GW-Generic-Blog-Thumbnail-1200x627_v02.jpg
END:VEVENT
BEGIN:VEVENT
DTSTART;TZID=America/Toronto:20250204T100000
DTEND;TZID=America/Toronto:20250204T103000
DTSTAMP:20260425T070900
CREATED:20250127T205044Z
LAST-MODIFIED:20250127T205044Z
UID:10000378-1738663200-1738665000@www2.geowarehouse.ca
SUMMARY:GeoWarehouse Webinar: Residential Relocation Reports
DESCRIPTION:
URL:https://www2.geowarehouse.ca/session/geowarehouse-webinar-residential-relocation-reports/
ATTACH;FMTTYPE=image/jpeg:https://www2.geowarehouse.ca/wp-content/uploads/2012/11/GW-Generic-Blog-Thumbnail-1200x627_v02.jpg
END:VEVENT
BEGIN:VEVENT
DTSTART;TZID=America/Toronto:20250122T110000
DTEND;TZID=America/Toronto:20250122T113000
DTSTAMP:20260425T070900
CREATED:20241210T193636Z
LAST-MODIFIED:20241210T194400Z
UID:10000352-1737543600-1737545400@www2.geowarehouse.ca
SUMMARY:Mastering Title Check Tool
DESCRIPTION:This training course is designed to empower you with the knowledge and skills to make informed decisions\, mitigate risks\, and streamline your real estate transactions.
URL:https://www2.geowarehouse.ca/session/mastering-title-check-tool-26/
ATTACH;FMTTYPE=image/jpeg:https://www2.geowarehouse.ca/wp-content/uploads/2012/11/GW-Generic-Blog-Thumbnail-1200x627_v02.jpg
END:VEVENT
BEGIN:VEVENT
DTSTART;TZID=America/Toronto:20250115T100000
DTEND;TZID=America/Toronto:20250115T113000
DTSTAMP:20260425T070900
CREATED:20241210T194058Z
LAST-MODIFIED:20241210T194058Z
UID:10000353-1736935200-1736940600@www2.geowarehouse.ca
SUMMARY:Getting Started with GeoWarehouse
DESCRIPTION:Through a live webinar\, you will learn all the key aspects of how to use GeoWarehouse.
URL:https://www2.geowarehouse.ca/session/getting-started-with-geowarehouse-20/
ATTACH;FMTTYPE=image/jpeg:https://www2.geowarehouse.ca/wp-content/uploads/2012/11/GW-Generic-Blog-Thumbnail-1200x627_v02.jpg
END:VEVENT
BEGIN:VEVENT
DTSTART;TZID=America/Toronto:20250108T110000
DTEND;TZID=America/Toronto:20250108T113000
DTSTAMP:20260425T070900
CREATED:20241210T193554Z
LAST-MODIFIED:20241210T194404Z
UID:10000351-1736334000-1736335800@www2.geowarehouse.ca
SUMMARY:Mastering Title Check Tool
DESCRIPTION:This training course is designed to empower you with the knowledge and skills to make informed decisions\, mitigate risks\, and streamline your real estate transactions.
URL:https://www2.geowarehouse.ca/session/mastering-title-check-tool-25/
ATTACH;FMTTYPE=image/jpeg:https://www2.geowarehouse.ca/wp-content/uploads/2012/11/GW-Generic-Blog-Thumbnail-1200x627_v02.jpg
END:VEVENT
BEGIN:VEVENT
DTSTART;TZID=America/Toronto:20241219T100000
DTEND;TZID=America/Toronto:20241219T110000
DTSTAMP:20260425T070900
CREATED:20240927T172505Z
LAST-MODIFIED:20240927T172505Z
UID:10000340-1734602400-1734606000@www2.geowarehouse.ca
SUMMARY:GeoWarehouse- All About Condos
DESCRIPTION:Through a live webinar\, we will explore the features that are unique to a condo type property using GeoWarehouse.
URL:https://www2.geowarehouse.ca/session/geowarehouse-all-about-condos-5/
ATTACH;FMTTYPE=image/jpeg:https://www2.geowarehouse.ca/wp-content/uploads/2012/11/GW-Generic-Blog-Thumbnail-1200x627_v02.jpg
END:VEVENT
BEGIN:VEVENT
DTSTART;TZID=America/Toronto:20241212T140000
DTEND;TZID=America/Toronto:20241212T143000
DTSTAMP:20260425T070900
CREATED:20240927T170849Z
LAST-MODIFIED:20240927T170849Z
UID:10000323-1734012000-1734013800@www2.geowarehouse.ca
SUMMARY:HoodQ Reports & School Catchment Mapping
DESCRIPTION:In this webinar\, we will explore HoodQ Reports and school catchment mapping.
URL:https://www2.geowarehouse.ca/session/hoodq-reports-school-catchment-mapping-10/
ATTACH;FMTTYPE=image/jpeg:https://www2.geowarehouse.ca/wp-content/uploads/2012/11/GW-Generic-Blog-Thumbnail-1200x627_v02.jpg
END:VEVENT
BEGIN:VEVENT
DTSTART;TZID=America/Toronto:20241212T100000
DTEND;TZID=America/Toronto:20241212T110000
DTSTAMP:20260425T070900
CREATED:20240927T165930Z
LAST-MODIFIED:20240927T170344Z
UID:10000318-1733997600-1734001200@www2.geowarehouse.ca
SUMMARY:Title Documents
DESCRIPTION:Through a live webinar\, we will explore additional due diligence opportunities available through title documents that you may purchase through the GeoWarehouse Store.
URL:https://www2.geowarehouse.ca/session/title-documents-25/
ATTACH;FMTTYPE=image/jpeg:https://www2.geowarehouse.ca/wp-content/uploads/2012/11/GW-Generic-Blog-Thumbnail-1200x627_v02.jpg
END:VEVENT
BEGIN:VEVENT
DTSTART;TZID=America/Toronto:20241211T140000
DTEND;TZID=America/Toronto:20241211T143000
DTSTAMP:20260425T070900
CREATED:20240927T165315Z
LAST-MODIFIED:20240927T165315Z
UID:10000313-1733925600-1733927400@www2.geowarehouse.ca
SUMMARY:Mastering Title Check Tool
DESCRIPTION:This training course is designed to empower you with the knowledge and skills to make informed decisions\, mitigate risks\, and streamline your real estate transactions.
URL:https://www2.geowarehouse.ca/session/mastering-title-check-tool-24/
ATTACH;FMTTYPE=image/jpeg:https://www2.geowarehouse.ca/wp-content/uploads/2012/11/GW-Generic-Blog-Thumbnail-1200x627_v02.jpg
END:VEVENT
BEGIN:VEVENT
DTSTART;TZID=America/Toronto:20241211T110000
DTEND;TZID=America/Toronto:20241211T113000
DTSTAMP:20260425T070900
CREATED:20240927T171758Z
LAST-MODIFIED:20240927T171758Z
UID:10000333-1733914800-1733916600@www2.geowarehouse.ca
SUMMARY:Protect Your Boundaries™ Reports
DESCRIPTION:PYB Sellers’\, Buyer’s and Easement reports are comprehensive title\, easement and ownership reports written in plain English.
URL:https://www2.geowarehouse.ca/session/protect-your-boundaries-reports-17/
ATTACH;FMTTYPE=image/jpeg:https://www2.geowarehouse.ca/wp-content/uploads/2012/11/GW-Generic-Blog-Thumbnail-1200x627_v02.jpg
END:VEVENT
BEGIN:VEVENT
DTSTART;TZID=America/Toronto:20241210T140000
DTEND;TZID=America/Toronto:20241210T143000
DTSTAMP:20260425T070900
CREATED:20240927T172202Z
LAST-MODIFIED:20240927T172202Z
UID:10000337-1733839200-1733841000@www2.geowarehouse.ca
SUMMARY:Residential Relocation Reports
DESCRIPTION:In this session you will learn how to gain insight on real estate transactions in and out of specific regions\, historical sales data\, breakdown of property type and first-time home buyers.
URL:https://www2.geowarehouse.ca/session/residential-relocation-reports-21/
ATTACH;FMTTYPE=image/jpeg:https://www2.geowarehouse.ca/wp-content/uploads/2012/11/GW-Generic-Blog-Thumbnail-1200x627_v02.jpg
END:VEVENT
BEGIN:VEVENT
DTSTART;TZID=America/Toronto:20241209T100000
DTEND;TZID=America/Toronto:20241209T113000
DTSTAMP:20260425T070900
CREATED:20240927T172813Z
LAST-MODIFIED:20240927T173000Z
UID:10000344-1733738400-1733743800@www2.geowarehouse.ca
SUMMARY:Getting Started with GeoWarehouse
DESCRIPTION:Through a live webinar\, you will learn all the key aspects of how to use GeoWarehouse.
URL:https://www2.geowarehouse.ca/session/getting-started-with-geowarehouse-19/
ATTACH;FMTTYPE=image/jpeg:https://www2.geowarehouse.ca/wp-content/uploads/2012/11/GW-Generic-Blog-Thumbnail-1200x627_v02.jpg
END:VEVENT
BEGIN:VEVENT
DTSTART;TZID=America/Toronto:20241204T130000
DTEND;TZID=America/Toronto:20241204T133000
DTSTAMP:20260425T070900
CREATED:20240927T171317Z
LAST-MODIFIED:20240927T171317Z
UID:10000328-1733317200-1733319000@www2.geowarehouse.ca
SUMMARY:Teranet Property Insights Reports
DESCRIPTION:Property Insights Reports include Teranet AVM (automated valuation models)\, Title Check information\, and more.
URL:https://www2.geowarehouse.ca/session/teranet-property-insights-reports-24/
ATTACH;FMTTYPE=image/jpeg:https://www2.geowarehouse.ca/wp-content/uploads/2012/11/GW-Generic-Blog-Thumbnail-1200x627_v02.jpg
END:VEVENT
BEGIN:VEVENT
DTSTART;TZID=America/Toronto:20241204T100000
DTEND;TZID=America/Toronto:20241204T103000
DTSTAMP:20260425T070900
CREATED:20240927T165228Z
LAST-MODIFIED:20240927T165228Z
UID:10000312-1733306400-1733308200@www2.geowarehouse.ca
SUMMARY:Mastering Title Check Tool
DESCRIPTION:This training course is designed to empower you with the knowledge and skills to make informed decisions\, mitigate risks\, and streamline your real estate transactions.
URL:https://www2.geowarehouse.ca/session/mastering-title-check-tool-23/
ATTACH;FMTTYPE=image/jpeg:https://www2.geowarehouse.ca/wp-content/uploads/2012/11/GW-Generic-Blog-Thumbnail-1200x627_v02.jpg
END:VEVENT
BEGIN:VEVENT
DTSTART;TZID=America/Toronto:20241203T100000
DTEND;TZID=America/Toronto:20241203T110000
DTSTAMP:20260425T070900
CREATED:20240927T173700Z
LAST-MODIFIED:20240927T173700Z
UID:10000350-1733220000-1733223600@www2.geowarehouse.ca
SUMMARY:GeoWarehouse Property & Market Reports
DESCRIPTION:In this session\, you’ll learn how to update your profile\, set preferences for PDF reports\, and customize various report types\, including Property\, Comparable Sales\, and Client Reports.
URL:https://www2.geowarehouse.ca/session/geowarehouse-property-market-reports-17/
ATTACH;FMTTYPE=image/jpeg:https://www2.geowarehouse.ca/wp-content/uploads/2012/11/GW-Generic-Blog-Thumbnail-1200x627_v02.jpg
END:VEVENT
BEGIN:VEVENT
DTSTART;TZID=America/Toronto:20241202T140000
DTEND;TZID=America/Toronto:20241202T150000
DTSTAMP:20260425T070900
CREATED:20240927T165853Z
LAST-MODIFIED:20241122T165701Z
UID:10000317-1733148000-1733151600@www2.geowarehouse.ca
SUMMARY:Title Documents
DESCRIPTION:Through a live webinar\, we will explore additional due diligence opportunities available through title documents that you may purchase through the GeoWarehouse Store.
URL:https://www2.geowarehouse.ca/session/title-documents-24/
ATTACH;FMTTYPE=image/jpeg:https://www2.geowarehouse.ca/wp-content/uploads/2012/11/GW-Generic-Blog-Thumbnail-1200x627_v02.jpg
END:VEVENT
BEGIN:VEVENT
DTSTART;TZID=America/Toronto:20241202T100000
DTEND;TZID=America/Toronto:20241202T110000
DTSTAMP:20260425T070900
CREATED:20240927T173247Z
LAST-MODIFIED:20240927T173247Z
UID:10000347-1733133600-1733137200@www2.geowarehouse.ca
SUMMARY:GeoWarehouse Tips For Success
DESCRIPTION:This session is for real estate professionals who are familiar with the basics of GeoWarehouse and would like advanced knowledge of the features available.
URL:https://www2.geowarehouse.ca/session/geowarehouse-tips-for-success-20/
ATTACH;FMTTYPE=image/jpeg:https://www2.geowarehouse.ca/wp-content/uploads/2012/11/GW-Generic-Blog-Thumbnail-1200x627_v02.jpg
END:VEVENT
BEGIN:VEVENT
DTSTART;TZID=America/Toronto:20241128T140000
DTEND;TZID=America/Toronto:20241128T143000
DTSTAMP:20260425T070900
CREATED:20240927T170754Z
LAST-MODIFIED:20240927T170754Z
UID:10000322-1732802400-1732804200@www2.geowarehouse.ca
SUMMARY:HoodQ Reports & School Catchment Mapping
DESCRIPTION:In this webinar\, we will explore HoodQ Reports and school catchment mapping.
URL:https://www2.geowarehouse.ca/session/hoodq-reports-school-catchment-mapping-9/
ATTACH;FMTTYPE=image/jpeg:https://www2.geowarehouse.ca/wp-content/uploads/2012/11/GW-Generic-Blog-Thumbnail-1200x627_v02.jpg
END:VEVENT
BEGIN:VEVENT
DTSTART;TZID=America/Toronto:20241127T130000
DTEND;TZID=America/Toronto:20241127T133000
DTSTAMP:20260425T070900
CREATED:20240927T171222Z
LAST-MODIFIED:20240927T171222Z
UID:10000327-1732712400-1732714200@www2.geowarehouse.ca
SUMMARY:Teranet Property Insights Reports
DESCRIPTION:Property Insights Reports include Teranet AVM (automated valuation models)\, Title Check information\, and more.
URL:https://www2.geowarehouse.ca/session/teranet-property-insights-reports-23/
ATTACH;FMTTYPE=image/jpeg:https://www2.geowarehouse.ca/wp-content/uploads/2012/11/GW-Generic-Blog-Thumbnail-1200x627_v02.jpg
END:VEVENT
END:VCALENDAR