BEGIN:VCALENDAR
VERSION:2.0
PRODID:-//Welcome to GeoWarehouse - ECPv6.15.20//NONSGML v1.0//EN
CALSCALE:GREGORIAN
METHOD:PUBLISH
X-WR-CALNAME:Welcome to GeoWarehouse
X-ORIGINAL-URL:https://www2.geowarehouse.ca
X-WR-CALDESC:Events for Welcome to GeoWarehouse
REFRESH-INTERVAL;VALUE=DURATION:PT1H
X-Robots-Tag:noindex
X-PUBLISHED-TTL:PT1H
BEGIN:VTIMEZONE
TZID:America/Toronto
BEGIN:DAYLIGHT
TZOFFSETFROM:-0500
TZOFFSETTO:-0400
TZNAME:EDT
DTSTART:20230312T070000
END:DAYLIGHT
BEGIN:STANDARD
TZOFFSETFROM:-0400
TZOFFSETTO:-0500
TZNAME:EST
DTSTART:20231105T060000
END:STANDARD
BEGIN:DAYLIGHT
TZOFFSETFROM:-0500
TZOFFSETTO:-0400
TZNAME:EDT
DTSTART:20240310T070000
END:DAYLIGHT
BEGIN:STANDARD
TZOFFSETFROM:-0400
TZOFFSETTO:-0500
TZNAME:EST
DTSTART:20241103T060000
END:STANDARD
BEGIN:DAYLIGHT
TZOFFSETFROM:-0500
TZOFFSETTO:-0400
TZNAME:EDT
DTSTART:20250309T070000
END:DAYLIGHT
BEGIN:STANDARD
TZOFFSETFROM:-0400
TZOFFSETTO:-0500
TZNAME:EST
DTSTART:20251102T060000
END:STANDARD
END:VTIMEZONE
BEGIN:VEVENT
DTSTART;TZID=America/Toronto:20240813T110000
DTEND;TZID=America/Toronto:20240813T113000
DTSTAMP:20260426T003719
CREATED:20240621T185652Z
LAST-MODIFIED:20240705T184622Z
UID:10000284-1723546800-1723548600@www2.geowarehouse.ca
SUMMARY:HoodQ Reports & School Catchment Mapping
DESCRIPTION:In this webinar\, we will explore HoodQ Reports and school catchment mapping. HoodQ provides real estate sales representative with a seamless\, low cost way to provide their clients with insightful hyper-local information – instantly. With these reports you may show your neighbourhood expertise with beautiful\, customized\, address-specific reports of “must have” information about local schools\, parks\, recreation facilities\, transit\, hospitals\, fire stations\, convenience and more.
URL:https://www2.geowarehouse.ca/session/hoodq-reports-school-catchment-mapping-3/
ATTACH;FMTTYPE=image/jpeg:https://www2.geowarehouse.ca/wp-content/uploads/2012/11/GW-Generic-Blog-Thumbnail-1200x627_v02.jpg
END:VEVENT
BEGIN:VEVENT
DTSTART;TZID=America/Toronto:20240813T100000
DTEND;TZID=America/Toronto:20240813T103000
DTSTAMP:20260426T003719
CREATED:20240621T185025Z
LAST-MODIFIED:20240705T184329Z
UID:10000281-1723543200-1723545000@www2.geowarehouse.ca
SUMMARY:Protect Your Boundaries™ Reports
DESCRIPTION:PYB Sellers’\, Buyer’s and Easement reports are comprehensive title\, easement and ownership reports written in plain English. Learn how to request these reports though GeoWarehouse in this session.
URL:https://www2.geowarehouse.ca/session/protect-your-boundaries-reports-10/
ATTACH;FMTTYPE=image/jpeg:https://www2.geowarehouse.ca/wp-content/uploads/2012/11/GW-Generic-Blog-Thumbnail-1200x627_v02.jpg
END:VEVENT
BEGIN:VEVENT
DTSTART;TZID=America/Toronto:20240812T130000
DTEND;TZID=America/Toronto:20240812T133000
DTSTAMP:20260426T003719
CREATED:20240621T184225Z
LAST-MODIFIED:20240705T184510Z
UID:10000275-1723467600-1723469400@www2.geowarehouse.ca
SUMMARY:Teranet Property Insights Reports
DESCRIPTION:Property Insights Reports include Teranet AVM (automated valuation models)\, Title Check information\, and more. Join this webinar to learn more about these reports and how they are perfect for listing and buying agents!
URL:https://www2.geowarehouse.ca/session/teranet-property-insights-reports-16/
ATTACH;FMTTYPE=image/jpeg:https://www2.geowarehouse.ca/wp-content/uploads/2012/11/GW-Generic-Blog-Thumbnail-1200x627_v02.jpg
END:VEVENT
BEGIN:VEVENT
DTSTART;TZID=America/Toronto:20240812T110000
DTEND;TZID=America/Toronto:20240812T113000
DTSTAMP:20260426T003719
CREATED:20240621T184640Z
LAST-MODIFIED:20240621T184640Z
UID:10000278-1723460400-1723462200@www2.geowarehouse.ca
SUMMARY:Residential Relocation Reports
DESCRIPTION:In this session you will learn how to gain insight on real estate transactions in and out of specific regions\, historical sales data\, breakdown of property type and first-time home buyers.
URL:https://www2.geowarehouse.ca/session/residential-relocation-reports-15/
ATTACH;FMTTYPE=image/jpeg:https://www2.geowarehouse.ca/wp-content/uploads/2012/11/GW-Generic-Blog-Thumbnail-1200x627_v02.jpg
END:VEVENT
BEGIN:VEVENT
DTSTART;TZID=America/Toronto:20240812T100000
DTEND;TZID=America/Toronto:20240812T103000
DTSTAMP:20260426T003719
CREATED:20240621T173741Z
LAST-MODIFIED:20240621T192808Z
UID:10000272-1723456800-1723458600@www2.geowarehouse.ca
SUMMARY:Mastering Title Check Tool
DESCRIPTION:This training course is designed to empower you with the knowledge and skills to make informed decisions\, mitigate risks\, and streamline your real estate transactions.
URL:https://www2.geowarehouse.ca/session/mastering-title-check-tool-13/
ATTACH;FMTTYPE=image/jpeg:https://www2.geowarehouse.ca/wp-content/uploads/2012/11/GW-Generic-Blog-Thumbnail-1200x627_v02.jpg
END:VEVENT
BEGIN:VEVENT
DTSTART;TZID=America/Toronto:20240801T100000
DTEND;TZID=America/Toronto:20240801T110000
DTSTAMP:20260426T003719
CREATED:20240621T192304Z
LAST-MODIFIED:20240621T192304Z
UID:10000298-1722506400-1722510000@www2.geowarehouse.ca
SUMMARY:GeoWarehouse Tips For Success
DESCRIPTION:This session is for real estate professionals who are familiar with the basics of GeoWarehouse and would like advanced knowledge of the features available.
URL:https://www2.geowarehouse.ca/session/geowarehouse-tips-for-success-15/
ATTACH;FMTTYPE=image/jpeg:https://www2.geowarehouse.ca/wp-content/uploads/2012/11/GW-Generic-Blog-Thumbnail-1200x627_v02.jpg
END:VEVENT
BEGIN:VEVENT
DTSTART;TZID=America/Toronto:20240731T140000
DTEND;TZID=America/Toronto:20240731T150000
DTSTAMP:20260426T003719
CREATED:20240620T170530Z
LAST-MODIFIED:20240705T184233Z
UID:10000266-1722434400-1722438000@www2.geowarehouse.ca
SUMMARY:Title Documents
DESCRIPTION:Through a live webinar\, we will explore additional due diligence opportunities available through title documents that you may purchase through the GeoWarehouse Store.
URL:https://www2.geowarehouse.ca/session/title-documents-15/
ATTACH;FMTTYPE=image/jpeg:https://www2.geowarehouse.ca/wp-content/uploads/2012/11/GW-Generic-Blog-Thumbnail-1200x627_v02.jpg
END:VEVENT
BEGIN:VEVENT
DTSTART;TZID=America/Toronto:20240731T110000
DTEND;TZID=America/Toronto:20240731T120000
DTSTAMP:20260426T003719
CREATED:20240620T170306Z
LAST-MODIFIED:20240621T190234Z
UID:10000264-1722423600-1722427200@www2.geowarehouse.ca
SUMMARY:All About Condos
DESCRIPTION:Through a live webinar\, we will explore the features that are unique to a condo type property using GeoWarehouse.
URL:https://www2.geowarehouse.ca/session/geowarehouse-all-about-condos-2/
ATTACH;FMTTYPE=image/jpeg:https://www2.geowarehouse.ca/wp-content/uploads/2012/11/GW-Generic-Blog-Thumbnail-1200x627_v02.jpg
END:VEVENT
BEGIN:VEVENT
DTSTART;TZID=America/Toronto:20240730T110000
DTEND;TZID=America/Toronto:20240730T113000
DTSTAMP:20260426T003719
CREATED:20240620T170059Z
LAST-MODIFIED:20240705T184628Z
UID:10000262-1722337200-1722339000@www2.geowarehouse.ca
SUMMARY:HoodQ Reports & School Catchment Mapping
DESCRIPTION:HoodQ provides real estate sales representative with a seamless\, low cost way to provide their clients with insightful hyper-local information – instantly. With these reports you may show your neighbourhood expertise with beautiful\, customized\, address-specific reports of “must have” information about local schools\, parks\, recreation facilities\, transit\, hospitals\, fire stations\, convenience and more.
URL:https://www2.geowarehouse.ca/session/hoodq-reports-school-catchment-mapping-2/
ATTACH;FMTTYPE=image/jpeg:https://www2.geowarehouse.ca/wp-content/uploads/2012/11/GW-Generic-Blog-Thumbnail-1200x627_v02.jpg
END:VEVENT
BEGIN:VEVENT
DTSTART;TZID=America/Toronto:20240730T100000
DTEND;TZID=America/Toronto:20240730T103000
DTSTAMP:20260426T003719
CREATED:20240620T165813Z
LAST-MODIFIED:20240705T184334Z
UID:10000260-1722333600-1722335400@www2.geowarehouse.ca
SUMMARY:Protect Your Boundaries™ Reports
DESCRIPTION:PYB Sellers’\, Buyer’s and Easement reports are comprehensive title\, easement and ownership reports written in plain English. Learn how to request these reports through GeoWarehouse in this session.
URL:https://www2.geowarehouse.ca/session/protect-your-boundaries-reports-9/
ATTACH;FMTTYPE=image/jpeg:https://www2.geowarehouse.ca/wp-content/uploads/2012/11/GW-Generic-Blog-Thumbnail-1200x627_v02.jpg
END:VEVENT
BEGIN:VEVENT
DTSTART;TZID=America/Toronto:20240729T130000
DTEND;TZID=America/Toronto:20240729T133000
DTSTAMP:20260426T003719
CREATED:20240620T165002Z
LAST-MODIFIED:20240705T184515Z
UID:10000256-1722258000-1722259800@www2.geowarehouse.ca
SUMMARY:Teranet Property Insights Reports
DESCRIPTION:Property Insights Reports include Teranet AVM (automated valuation models)\, Title Check information\, and more. Join this webinar to learn more about these reports and how they are perfect for listing and buying agents!
URL:https://www2.geowarehouse.ca/session/teranet-property-insights-reports-15/
ATTACH;FMTTYPE=image/jpeg:https://www2.geowarehouse.ca/wp-content/uploads/2012/11/GW-Generic-Blog-Thumbnail-1200x627_v02.jpg
END:VEVENT
BEGIN:VEVENT
DTSTART;TZID=America/Toronto:20240729T110000
DTEND;TZID=America/Toronto:20240729T113000
DTSTAMP:20260426T003719
CREATED:20240620T165313Z
LAST-MODIFIED:20240620T165313Z
UID:10000258-1722250800-1722252600@www2.geowarehouse.ca
SUMMARY:Residential Relocation Reports
DESCRIPTION:In this session you will learn how to gain insight on real estate transactions in and out of specific regions\, historical sales data\, breakdown of property type and first-time home buyers.
URL:https://www2.geowarehouse.ca/session/residential-relocation-reports-14/
ATTACH;FMTTYPE=image/jpeg:https://www2.geowarehouse.ca/wp-content/uploads/2012/11/GW-Generic-Blog-Thumbnail-1200x627_v02.jpg
END:VEVENT
BEGIN:VEVENT
DTSTART;TZID=America/Toronto:20240729T100000
DTEND;TZID=America/Toronto:20240729T103000
DTSTAMP:20260426T003719
CREATED:20240620T164541Z
LAST-MODIFIED:20240620T164541Z
UID:10000254-1722247200-1722249000@www2.geowarehouse.ca
SUMMARY:Mastering Title Check Tool
DESCRIPTION:This training course is designed to empower you with the knowledge and skills to make informed decisions\, mitigate risks\, and streamline your real estate transactions.
URL:https://www2.geowarehouse.ca/session/mastering-title-check-tool-12/
ATTACH;FMTTYPE=image/jpeg:https://www2.geowarehouse.ca/wp-content/uploads/2012/11/GW-Generic-Blog-Thumbnail-1200x627_v02.jpg
END:VEVENT
BEGIN:VEVENT
DTSTART;TZID=America/Toronto:20240724T140000
DTEND;TZID=America/Toronto:20240724T150000
DTSTAMP:20260426T003719
CREATED:20240620T171055Z
LAST-MODIFIED:20240620T171055Z
UID:10000270-1721829600-1721833200@www2.geowarehouse.ca
SUMMARY:GeoWarehouse Property & Market Reports
DESCRIPTION:In this session you will learn how to: \n• Update your profile to ensure your branding and contact information is up to date. \n• Set preference for the PDF property report and comparable search feature. \n• How to generate and customize the print report option for the Property Report and Comparable Sales Report. \n• How to generate and customize the Basic Client Report\, My Property Report\, Client Report and Comparable Sales Report.
URL:https://www2.geowarehouse.ca/session/geowarehouse-property-market-reports-12/
ATTACH;FMTTYPE=image/jpeg:https://www2.geowarehouse.ca/wp-content/uploads/2012/11/GW-Generic-Blog-Thumbnail-1200x627_v02.jpg
END:VEVENT
BEGIN:VEVENT
DTSTART;TZID=America/Toronto:20240724T100000
DTEND;TZID=America/Toronto:20240724T113000
DTSTAMP:20260426T003719
CREATED:20240620T170818Z
LAST-MODIFIED:20240620T170818Z
UID:10000268-1721815200-1721820600@www2.geowarehouse.ca
SUMMARY:Getting Started with GeoWarehouse
DESCRIPTION:Through a live webinar\, you will learn all the key aspects of how to use GeoWarehouse.
URL:https://www2.geowarehouse.ca/session/getting-started-with-geowarehouse-13/
ATTACH;FMTTYPE=image/jpeg:https://www2.geowarehouse.ca/wp-content/uploads/2012/11/GW-Generic-Blog-Thumbnail-1200x627_v02.jpg
END:VEVENT
BEGIN:VEVENT
DTSTART;TZID=America/Toronto:20240711T140000
DTEND;TZID=America/Toronto:20240711T150000
DTSTAMP:20260426T003719
CREATED:20240620T171206Z
LAST-MODIFIED:20240620T171206Z
UID:10000271-1720706400-1720710000@www2.geowarehouse.ca
SUMMARY:GeoWarehouse Tips For Success
DESCRIPTION:This session is for real estate professionals who are familiar with the basics of GeoWarehouse and would like advanced knowledge of the features available.
URL:https://www2.geowarehouse.ca/session/geowarehouse-tips-for-success-14/
ATTACH;FMTTYPE=image/jpeg:https://www2.geowarehouse.ca/wp-content/uploads/2012/11/GW-Generic-Blog-Thumbnail-1200x627_v02.jpg
END:VEVENT
BEGIN:VEVENT
DTSTART;TZID=America/Toronto:20240710T140000
DTEND;TZID=America/Toronto:20240710T150000
DTSTAMP:20260426T003719
CREATED:20240620T170417Z
LAST-MODIFIED:20240705T184242Z
UID:10000265-1720620000-1720623600@www2.geowarehouse.ca
SUMMARY:Title Documents
DESCRIPTION:Through a live webinar\, we will explore additional due diligence opportunities available through title documents that you may purchase through the GeoWarehouse Store.
URL:https://www2.geowarehouse.ca/session/title-documents-14/
ATTACH;FMTTYPE=image/jpeg:https://www2.geowarehouse.ca/wp-content/uploads/2012/11/GW-Generic-Blog-Thumbnail-1200x627_v02.jpg
END:VEVENT
BEGIN:VEVENT
DTSTART;TZID=America/Toronto:20240710T110000
DTEND;TZID=America/Toronto:20240710T120000
DTSTAMP:20260426T003719
CREATED:20240620T170207Z
LAST-MODIFIED:20240621T190239Z
UID:10000263-1720609200-1720612800@www2.geowarehouse.ca
SUMMARY:All About Condos
DESCRIPTION:Through a live webinar\, we will explore the features that are unique to a condo type property using GeoWarehouse.
URL:https://www2.geowarehouse.ca/session/geowarehouse-all-about-condos/
ATTACH;FMTTYPE=image/jpeg:https://www2.geowarehouse.ca/wp-content/uploads/2012/11/GW-Generic-Blog-Thumbnail-1200x627_v02.jpg
END:VEVENT
BEGIN:VEVENT
DTSTART;TZID=America/Toronto:20240709T110000
DTEND;TZID=America/Toronto:20240709T113000
DTSTAMP:20260426T003719
CREATED:20240620T165927Z
LAST-MODIFIED:20240705T184635Z
UID:10000261-1720522800-1720524600@www2.geowarehouse.ca
SUMMARY:HoodQ Reports & School Catchment Mapping
DESCRIPTION:HoodQ provides real estate sales representative with a seamless\, low cost way to provide their clients with insightful hyper-local information – instantly. With these reports you may show your neighbourhood expertise with beautiful\, customized\, address-specific reports of “must have” information about local schools\, parks\, recreation facilities\, transit\, hospitals\, fire stations\, convenience and more.
URL:https://www2.geowarehouse.ca/session/hoodq-reports-school-catchment-mapping/
ATTACH;FMTTYPE=image/jpeg:https://www2.geowarehouse.ca/wp-content/uploads/2012/11/GW-Generic-Blog-Thumbnail-1200x627_v02.jpg
END:VEVENT
BEGIN:VEVENT
DTSTART;TZID=America/Toronto:20240709T100000
DTEND;TZID=America/Toronto:20240709T103000
DTSTAMP:20260426T003719
CREATED:20240620T165642Z
LAST-MODIFIED:20240705T184342Z
UID:10000259-1720519200-1720521000@www2.geowarehouse.ca
SUMMARY:Protect Your Boundaries™ Reports
DESCRIPTION:PYB Sellers’\, Buyer’s and Easement reports are comprehensive title\, easement and ownership reports written in plain English. Learn how to request these reports through GeoWarehouse in this session.
URL:https://www2.geowarehouse.ca/session/protect-your-boundaries-reports-8/
ATTACH;FMTTYPE=image/jpeg:https://www2.geowarehouse.ca/wp-content/uploads/2012/11/GW-Generic-Blog-Thumbnail-1200x627_v02.jpg
END:VEVENT
BEGIN:VEVENT
DTSTART;TZID=America/Toronto:20240708T130000
DTEND;TZID=America/Toronto:20240708T133000
DTSTAMP:20260426T003719
CREATED:20240620T164748Z
LAST-MODIFIED:20240705T184524Z
UID:10000255-1720443600-1720445400@www2.geowarehouse.ca
SUMMARY:Teranet Property Insights Reports
DESCRIPTION:Property Insights Reports include Teranet AVM (automated valuation models)\, Title Check information\, and more. Join this webinar to learn more about these reports and how they are perfect for listing and buying agents!
URL:https://www2.geowarehouse.ca/session/teranet-property-insights-reports-14/
ATTACH;FMTTYPE=image/jpeg:https://www2.geowarehouse.ca/wp-content/uploads/2012/11/GW-Generic-Blog-Thumbnail-1200x627_v02.jpg
END:VEVENT
BEGIN:VEVENT
DTSTART;TZID=America/Toronto:20240708T110000
DTEND;TZID=America/Toronto:20240708T113000
DTSTAMP:20260426T003719
CREATED:20240620T165147Z
LAST-MODIFIED:20240620T165147Z
UID:10000257-1720436400-1720438200@www2.geowarehouse.ca
SUMMARY:Residential Relocation Reports
DESCRIPTION:In this session you will learn how to gain insight on real estate transactions in and out of specific regions\, historical sales data\, breakdown of property type and first-time home buyers.
URL:https://www2.geowarehouse.ca/session/residential-relocation-reports-13/
ATTACH;FMTTYPE=image/jpeg:https://www2.geowarehouse.ca/wp-content/uploads/2012/11/GW-Generic-Blog-Thumbnail-1200x627_v02.jpg
END:VEVENT
BEGIN:VEVENT
DTSTART;TZID=America/Toronto:20240708T100000
DTEND;TZID=America/Toronto:20240708T103000
DTSTAMP:20260426T003719
CREATED:20240620T164110Z
LAST-MODIFIED:20240620T164423Z
UID:10000253-1720432800-1720434600@www2.geowarehouse.ca
SUMMARY:Mastering Title Check Tool
DESCRIPTION:This training course is designed to empower you with the knowledge and skills to make informed decisions\, mitigate risks\, and streamline your real estate transactions.
URL:https://www2.geowarehouse.ca/session/mastering-title-check-tool-11/
ATTACH;FMTTYPE=image/jpeg:https://www2.geowarehouse.ca/wp-content/uploads/2012/11/GW-Generic-Blog-Thumbnail-1200x627_v02.jpg
END:VEVENT
BEGIN:VEVENT
DTSTART;TZID=America/Toronto:20240703T140000
DTEND;TZID=America/Toronto:20240703T150000
DTSTAMP:20260426T003719
CREATED:20240620T170945Z
LAST-MODIFIED:20240621T191847Z
UID:10000269-1720015200-1720018800@www2.geowarehouse.ca
SUMMARY:GeoWarehouse Property & Market Reports
DESCRIPTION:In this session you will learn how to: \n• Update your profile to ensure your branding and contact information is up to date. \n• Set preference for the PDF property report and comparable search feature. • How to generate and customize the print report option for the Property Report and Comparable Sales Report. \n• How to generate and customize the Basic Client Report\, My Property Report\, Client Report and Comparable Sales Report.
URL:https://www2.geowarehouse.ca/session/geowarehouse-property-market-reports-9/
ATTACH;FMTTYPE=image/jpeg:https://www2.geowarehouse.ca/wp-content/uploads/2012/11/GW-Generic-Blog-Thumbnail-1200x627_v02.jpg
END:VEVENT
BEGIN:VEVENT
DTSTART;TZID=America/Toronto:20240703T100000
DTEND;TZID=America/Toronto:20240703T113000
DTSTAMP:20260426T003719
CREATED:20240620T170716Z
LAST-MODIFIED:20240620T170716Z
UID:10000267-1720000800-1720006200@www2.geowarehouse.ca
SUMMARY:Getting Started with GeoWarehouse
DESCRIPTION:Through a live webinar\, you will learn all the key aspects of how to use GeoWarehouse.
URL:https://www2.geowarehouse.ca/session/getting-started-with-geowarehouse-12/
ATTACH;FMTTYPE=image/jpeg:https://www2.geowarehouse.ca/wp-content/uploads/2012/11/GW-Generic-Blog-Thumbnail-1200x627_v02.jpg
END:VEVENT
BEGIN:VEVENT
DTSTART;TZID=America/Toronto:20240627T140000
DTEND;TZID=America/Toronto:20240627T143000
DTSTAMP:20260426T003719
CREATED:20240328T141634Z
LAST-MODIFIED:20240328T141634Z
UID:10000217-1719496800-1719498600@www2.geowarehouse.ca
SUMMARY:Protect Your Boundaries™ Reports
DESCRIPTION:PYB Sellers’\, Buyer’s and Easement reports are comprehensive title\, easement and ownership reports written in plain English. Learn how to request these reports through GeoWarehouse in this session.
URL:https://www2.geowarehouse.ca/session/protect-your-boundaries-reports-7/
ATTACH;FMTTYPE=image/jpeg:https://www2.geowarehouse.ca/wp-content/uploads/2012/11/GW-Generic-Blog-Thumbnail-1200x627_v02.jpg
END:VEVENT
BEGIN:VEVENT
DTSTART;TZID=America/Toronto:20240627T110000
DTEND;TZID=America/Toronto:20240627T113000
DTSTAMP:20260426T003719
CREATED:20240328T192412Z
LAST-MODIFIED:20240328T192412Z
UID:10000249-1719486000-1719487800@www2.geowarehouse.ca
SUMMARY:HoodQ™ Neighbourhood & School Catchment Reports
DESCRIPTION:We will explore HoodQ Reports and school catchment mapping.
URL:https://www2.geowarehouse.ca/session/hoodq-neighbourhood-school-catchment-reports-13/
ATTACH;FMTTYPE=image/jpeg:https://www2.geowarehouse.ca/wp-content/uploads/2012/11/GW-Generic-Blog-Thumbnail-1200x627_v02.jpg
END:VEVENT
BEGIN:VEVENT
DTSTART;TZID=America/Toronto:20240627T100000
DTEND;TZID=America/Toronto:20240627T103000
DTSTAMP:20260426T003719
CREATED:20240328T142351Z
LAST-MODIFIED:20240328T142351Z
UID:10000223-1719482400-1719484200@www2.geowarehouse.ca
SUMMARY:Mastering Title Check Tool
DESCRIPTION:This Title Check Tool training course is designed to empower you with the knowledge and skills to make informed decisions\, mitigate risks\, and streamline your real estate transactions.
URL:https://www2.geowarehouse.ca/session/mastering-title-check-tool-10/
ATTACH;FMTTYPE=image/jpeg:https://www2.geowarehouse.ca/wp-content/uploads/2012/11/GW-Generic-Blog-Thumbnail-1200x627_v02.jpg
END:VEVENT
BEGIN:VEVENT
DTSTART;TZID=America/Toronto:20240620T100000
DTEND;TZID=America/Toronto:20240620T110000
DTSTAMP:20260426T003719
CREATED:20240328T145637Z
LAST-MODIFIED:20240328T145704Z
UID:10000244-1718877600-1718881200@www2.geowarehouse.ca
SUMMARY:Title Documents
DESCRIPTION:How to access statutory documents to identify early in the transaction potential equity or land use problems.
URL:https://www2.geowarehouse.ca/session/title-documents-13/
ATTACH;FMTTYPE=image/jpeg:https://www2.geowarehouse.ca/wp-content/uploads/2012/11/GW-Generic-Blog-Thumbnail-1200x627_v02.jpg
END:VEVENT
BEGIN:VEVENT
DTSTART;TZID=America/Toronto:20240618T140000
DTEND;TZID=America/Toronto:20240618T140000
DTSTAMP:20260426T003719
CREATED:20240328T144024Z
LAST-MODIFIED:20240328T144024Z
UID:10000230-1718719200-1718719200@www2.geowarehouse.ca
SUMMARY:Geowarehouse Property & Market Reports
DESCRIPTION:In this webinar\, we will demonstrate to generate and customize the PDF Property Report\, Comparable Sales Report & Client Report
URL:https://www2.geowarehouse.ca/session/geowarehouse-property-market-reports-11/
ATTACH;FMTTYPE=image/jpeg:https://www2.geowarehouse.ca/wp-content/uploads/2012/11/GW-Generic-Blog-Thumbnail-1200x627_v02.jpg
END:VEVENT
END:VCALENDAR