BEGIN:VCALENDAR
VERSION:2.0
PRODID:-//Welcome to GeoWarehouse - ECPv6.15.20//NONSGML v1.0//EN
CALSCALE:GREGORIAN
METHOD:PUBLISH
X-WR-CALNAME:Welcome to GeoWarehouse
X-ORIGINAL-URL:https://www2.geowarehouse.ca
X-WR-CALDESC:Events for Welcome to GeoWarehouse
REFRESH-INTERVAL;VALUE=DURATION:PT1H
X-Robots-Tag:noindex
X-PUBLISHED-TTL:PT1H
BEGIN:VTIMEZONE
TZID:America/Toronto
BEGIN:DAYLIGHT
TZOFFSETFROM:-0500
TZOFFSETTO:-0400
TZNAME:EDT
DTSTART:20240310T070000
END:DAYLIGHT
BEGIN:STANDARD
TZOFFSETFROM:-0400
TZOFFSETTO:-0500
TZNAME:EST
DTSTART:20241103T060000
END:STANDARD
BEGIN:DAYLIGHT
TZOFFSETFROM:-0500
TZOFFSETTO:-0400
TZNAME:EDT
DTSTART:20250309T070000
END:DAYLIGHT
BEGIN:STANDARD
TZOFFSETFROM:-0400
TZOFFSETTO:-0500
TZNAME:EST
DTSTART:20251102T060000
END:STANDARD
BEGIN:DAYLIGHT
TZOFFSETFROM:-0500
TZOFFSETTO:-0400
TZNAME:EDT
DTSTART:20260308T070000
END:DAYLIGHT
BEGIN:STANDARD
TZOFFSETFROM:-0400
TZOFFSETTO:-0500
TZNAME:EST
DTSTART:20261101T060000
END:STANDARD
END:VTIMEZONE
BEGIN:VEVENT
DTSTART;TZID=America/Toronto:20250421T100000
DTEND;TZID=America/Toronto:20250421T113000
DTSTAMP:20260422T194842
CREATED:20250331T181625Z
LAST-MODIFIED:20250404T184028Z
UID:10000400-1745229600-1745235000@www2.geowarehouse.ca
SUMMARY:Advanced level focusing on mastering GeoWarehouse\, optimizing its use and solving complex challenges
DESCRIPTION:
URL:https://www2.geowarehouse.ca/session/advanced-level-focusing-on-mastering-geowarehouse-optimizing-its-use-and-solving-complex-challenges-3/
ATTACH;FMTTYPE=image/jpeg:https://www2.geowarehouse.ca/wp-content/uploads/2012/11/GW-Generic-Blog-Thumbnail-1200x627_v02.jpg
END:VEVENT
BEGIN:VEVENT
DTSTART;TZID=America/Toronto:20250416T150000
DTEND;TZID=America/Toronto:20250416T153000
DTSTAMP:20260422T194842
CREATED:20250331T182225Z
LAST-MODIFIED:20250404T184031Z
UID:10000408-1744815600-1744817400@www2.geowarehouse.ca
SUMMARY:Protect Your Boundaries™ Reports
DESCRIPTION:
URL:https://www2.geowarehouse.ca/session/protect-your-boundaries-reports-18/
ATTACH;FMTTYPE=image/jpeg:https://www2.geowarehouse.ca/wp-content/uploads/2012/11/GW-Generic-Blog-Thumbnail-1200x627_v02.jpg
END:VEVENT
BEGIN:VEVENT
DTSTART;TZID=America/Toronto:20250416T140000
DTEND;TZID=America/Toronto:20250416T143000
DTSTAMP:20260422T194843
CREATED:20250331T182046Z
LAST-MODIFIED:20250404T184035Z
UID:10000405-1744812000-1744813800@www2.geowarehouse.ca
SUMMARY:Residential Relocation Reports
DESCRIPTION:
URL:https://www2.geowarehouse.ca/session/residential-relocation-reports-22/
ATTACH;FMTTYPE=image/jpeg:https://www2.geowarehouse.ca/wp-content/uploads/2012/11/GW-Generic-Blog-Thumbnail-1200x627_v02.jpg
END:VEVENT
BEGIN:VEVENT
DTSTART;TZID=America/Toronto:20250416T110000
DTEND;TZID=America/Toronto:20250416T123000
DTSTAMP:20260422T194843
CREATED:20250331T181315Z
LAST-MODIFIED:20250404T184038Z
UID:10000395-1744801200-1744806600@www2.geowarehouse.ca
SUMMARY:Getting Started with GeoWarehouse
DESCRIPTION:
URL:https://www2.geowarehouse.ca/session/getting-started-with-geowarehouse-23/
ATTACH;FMTTYPE=image/jpeg:https://www2.geowarehouse.ca/wp-content/uploads/2012/11/GW-Generic-Blog-Thumbnail-1200x627_v02.jpg
END:VEVENT
BEGIN:VEVENT
DTSTART;TZID=America/Toronto:20250415T100000
DTEND;TZID=America/Toronto:20250415T113000
DTSTAMP:20260422T194843
CREATED:20250331T175814Z
LAST-MODIFIED:20250404T184043Z
UID:10000381-1744711200-1744716600@www2.geowarehouse.ca
SUMMARY:Getting Started with GeoWarehouse For Agents
DESCRIPTION:
URL:https://www2.geowarehouse.ca/session/getting-started-with-geowarehouse-for-agents-3/
CATEGORIES:Agents Only
ATTACH;FMTTYPE=image/jpeg:https://www2.geowarehouse.ca/wp-content/uploads/2012/11/GW-Generic-Blog-Thumbnail-1200x627_v02.jpg
END:VEVENT
BEGIN:VEVENT
DTSTART;TZID=America/Toronto:20250408T150000
DTEND;TZID=America/Toronto:20250408T153000
DTSTAMP:20260422T194843
CREATED:20250331T181826Z
LAST-MODIFIED:20250404T184047Z
UID:10000402-1744124400-1744126200@www2.geowarehouse.ca
SUMMARY:Teranet Property Insights Report
DESCRIPTION:
URL:https://www2.geowarehouse.ca/session/teranet-property-insights-report/
ATTACH;FMTTYPE=image/jpeg:https://www2.geowarehouse.ca/wp-content/uploads/2012/11/GW-Generic-Blog-Thumbnail-1200x627_v02.jpg
END:VEVENT
BEGIN:VEVENT
DTSTART;TZID=America/Toronto:20250408T140000
DTEND;TZID=America/Toronto:20250408T143000
DTSTAMP:20260422T194843
CREATED:20250331T180612Z
LAST-MODIFIED:20250404T184054Z
UID:10000389-1744120800-1744122600@www2.geowarehouse.ca
SUMMARY:Protect Your Commission with GeoWarehouse - Agent Edition
DESCRIPTION:
URL:https://www2.geowarehouse.ca/session/protect-your-commission-with-geowarehouse-agent-edition-2/
CATEGORIES:Agents Only
ATTACH;FMTTYPE=image/jpeg:https://www2.geowarehouse.ca/wp-content/uploads/2012/11/GW-Generic-Blog-Thumbnail-1200x627_v02.jpg
END:VEVENT
BEGIN:VEVENT
DTSTART;TZID=America/Toronto:20250401T140000
DTEND;TZID=America/Toronto:20250401T143000
DTSTAMP:20260422T194843
CREATED:20250331T180522Z
LAST-MODIFIED:20250404T184058Z
UID:10000388-1743516000-1743517800@www2.geowarehouse.ca
SUMMARY:Protect Your Commission with GeoWarehouse - Agent Edition
DESCRIPTION:
URL:https://www2.geowarehouse.ca/session/protect-your-commission-with-geowarehouse-agent-edition/
CATEGORIES:Agents Only
ATTACH;FMTTYPE=image/jpeg:https://www2.geowarehouse.ca/wp-content/uploads/2012/11/GW-Generic-Blog-Thumbnail-1200x627_v02.jpg
END:VEVENT
BEGIN:VEVENT
DTSTART;TZID=America/Toronto:20250326T100000
DTEND;TZID=America/Toronto:20250326T113000
DTSTAMP:20260422T194843
CREATED:20250127T202657Z
LAST-MODIFIED:20250127T202900Z
UID:10000360-1742983200-1742988600@www2.geowarehouse.ca
SUMMARY:Advanced level focusing on mastering GeoWarehouse\, optimizing its use and solving complex challenges
DESCRIPTION:
URL:https://www2.geowarehouse.ca/session/advanced-level-focusing-on-mastering-geowarehouse-optimizing-its-use-and-solving-complex-challenges-2/
ATTACH;FMTTYPE=image/jpeg:https://www2.geowarehouse.ca/wp-content/uploads/2012/11/GW-Generic-Blog-Thumbnail-1200x627_v02.jpg
END:VEVENT
BEGIN:VEVENT
DTSTART;TZID=America/Toronto:20250325T150000
DTEND;TZID=America/Toronto:20250325T153000
DTSTAMP:20260422T194843
CREATED:20250127T204136Z
LAST-MODIFIED:20250320T160222Z
UID:10000369-1742914800-1742916600@www2.geowarehouse.ca
SUMMARY:GeoWarehouse Webinar: Mastering Title Check Tool
DESCRIPTION:
URL:https://www2.geowarehouse.ca/session/geowarehouse-webinar-mastering-title-check-tool-3/
ATTACH;FMTTYPE=image/jpeg:https://www2.geowarehouse.ca/wp-content/uploads/2012/11/GW-Generic-Blog-Thumbnail-1200x627_v02.jpg
END:VEVENT
BEGIN:VEVENT
DTSTART;TZID=America/Toronto:20250325T140000
DTEND;TZID=America/Toronto:20250325T143000
DTSTAMP:20260422T194843
CREATED:20250127T204635Z
LAST-MODIFIED:20250127T204635Z
UID:10000374-1742911200-1742913000@www2.geowarehouse.ca
SUMMARY:GeoWarehouse Webinar: Protect Your Boundaries™ Reports
DESCRIPTION:
URL:https://www2.geowarehouse.ca/session/geowarehouse-webinar-protect-your-boundaries-reports-2/
ATTACH;FMTTYPE=image/jpeg:https://www2.geowarehouse.ca/wp-content/uploads/2012/11/GW-Generic-Blog-Thumbnail-1200x627_v02.jpg
END:VEVENT
BEGIN:VEVENT
DTSTART;TZID=America/Toronto:20250319T150000
DTEND;TZID=America/Toronto:20250319T153000
DTSTAMP:20260422T194843
CREATED:20250127T204904Z
LAST-MODIFIED:20250127T204904Z
UID:10000377-1742396400-1742398200@www2.geowarehouse.ca
SUMMARY:GeoWarehouse Webinar: HoodQ Reports & School Catchment Mapping
DESCRIPTION:
URL:https://www2.geowarehouse.ca/session/geowarehouse-webinar-hoodq-reports-school-catchment-mapping-3/
ATTACH;FMTTYPE=image/jpeg:https://www2.geowarehouse.ca/wp-content/uploads/2012/11/GW-Generic-Blog-Thumbnail-1200x627_v02.jpg
END:VEVENT
BEGIN:VEVENT
DTSTART;TZID=America/Toronto:20250319T140000
DTEND;TZID=America/Toronto:20250319T143000
DTSTAMP:20260422T194843
CREATED:20250127T204449Z
LAST-MODIFIED:20250127T204449Z
UID:10000372-1742392800-1742394600@www2.geowarehouse.ca
SUMMARY:GeoWarehouse Webinar: Teranet Property Insights Reports
DESCRIPTION:
URL:https://www2.geowarehouse.ca/session/geowarehouse-webinar-teranet-property-insights-reports-2/
ATTACH;FMTTYPE=image/jpeg:https://www2.geowarehouse.ca/wp-content/uploads/2012/11/GW-Generic-Blog-Thumbnail-1200x627_v02.jpg
END:VEVENT
BEGIN:VEVENT
DTSTART;TZID=America/Toronto:20250319T100000
DTEND;TZID=America/Toronto:20250319T113000
DTSTAMP:20260422T194843
CREATED:20250127T201308Z
LAST-MODIFIED:20250127T201308Z
UID:10000358-1742378400-1742383800@www2.geowarehouse.ca
SUMMARY:Advanced Navigation and Intermediate Features
DESCRIPTION:
URL:https://www2.geowarehouse.ca/session/advanced-navigation-and-intermediate-features-2/
ATTACH;FMTTYPE=image/jpeg:https://www2.geowarehouse.ca/wp-content/uploads/2012/11/GW-Generic-Blog-Thumbnail-1200x627_v02.jpg
END:VEVENT
BEGIN:VEVENT
DTSTART;TZID=America/Toronto:20250318T140000
DTEND;TZID=America/Toronto:20250318T153000
DTSTAMP:20260422T194843
CREATED:20250127T203520Z
LAST-MODIFIED:20250127T203520Z
UID:10000366-1742306400-1742311800@www2.geowarehouse.ca
SUMMARY:Advanced level focusing on mastering GeoWarehouse\, optimizing its use and solving complex challenges for Agents
DESCRIPTION:
URL:https://www2.geowarehouse.ca/session/advanced-level-focusing-on-mastering-geowarehouse-optimizing-its-use-and-solving-complex-challenges-for-agents-2/
CATEGORIES:Agents Only
ATTACH;FMTTYPE=image/jpeg:https://www2.geowarehouse.ca/wp-content/uploads/2012/11/GW-Generic-Blog-Thumbnail-1200x627_v02.jpg
END:VEVENT
BEGIN:VEVENT
DTSTART;TZID=America/Toronto:20250311T140000
DTEND;TZID=America/Toronto:20250311T153000
DTSTAMP:20260422T194843
CREATED:20250127T203333Z
LAST-MODIFIED:20250213T170658Z
UID:10000364-1741701600-1741707000@www2.geowarehouse.ca
SUMMARY:Advanced Navigation and Intermediate Features For Agents
DESCRIPTION:
URL:https://www2.geowarehouse.ca/session/advanced-navigation-and-intermediate-features-for-agents-2/
CATEGORIES:Agents Only
ATTACH;FMTTYPE=image/jpeg:https://www2.geowarehouse.ca/wp-content/uploads/2012/11/GW-Generic-Blog-Thumbnail-1200x627_v02.jpg
END:VEVENT
BEGIN:VEVENT
DTSTART;TZID=America/Toronto:20250311T110000
DTEND;TZID=America/Toronto:20250311T123000
DTSTAMP:20260422T194843
CREATED:20250127T200938Z
LAST-MODIFIED:20250127T200938Z
UID:10000356-1741690800-1741696200@www2.geowarehouse.ca
SUMMARY:Getting Started with GeoWarehouse
DESCRIPTION:
URL:https://www2.geowarehouse.ca/session/getting-started-with-geowarehouse-22/
ATTACH;FMTTYPE=image/jpeg:https://www2.geowarehouse.ca/wp-content/uploads/2012/11/GW-Generic-Blog-Thumbnail-1200x627_v02.jpg
END:VEVENT
BEGIN:VEVENT
DTSTART;TZID=America/Toronto:20250311T100000
DTEND;TZID=America/Toronto:20250311T103000
DTSTAMP:20260422T194843
CREATED:20250127T204047Z
LAST-MODIFIED:20250220T003840Z
UID:10000368-1741687200-1741689000@www2.geowarehouse.ca
SUMMARY:GeoWarehouse Webinar: Mastering Title Check Tool
DESCRIPTION:
URL:https://www2.geowarehouse.ca/session/geowarehouse-webinar-mastering-title-check-tool-2/
ATTACH;FMTTYPE=image/jpeg:https://www2.geowarehouse.ca/wp-content/uploads/2012/11/GW-Generic-Blog-Thumbnail-1200x627_v02.jpg
END:VEVENT
BEGIN:VEVENT
DTSTART;TZID=America/Toronto:20250304T140000
DTEND;TZID=America/Toronto:20250304T153000
DTSTAMP:20260422T194843
CREATED:20250127T203121Z
LAST-MODIFIED:20250127T203121Z
UID:10000362-1741096800-1741102200@www2.geowarehouse.ca
SUMMARY:Getting Started with GeoWarehouse For Agents
DESCRIPTION:
URL:https://www2.geowarehouse.ca/session/getting-started-with-geowarehouse-for-agents-2/
CATEGORIES:Agents Only
ATTACH;FMTTYPE=image/jpeg:https://www2.geowarehouse.ca/wp-content/uploads/2012/11/GW-Generic-Blog-Thumbnail-1200x627_v02.jpg
END:VEVENT
BEGIN:VEVENT
DTSTART;TZID=America/Toronto:20250304T100000
DTEND;TZID=America/Toronto:20250304T103000
DTSTAMP:20260422T194843
CREATED:20250127T205116Z
LAST-MODIFIED:20250127T205116Z
UID:10000379-1741082400-1741084200@www2.geowarehouse.ca
SUMMARY:GeoWarehouse Webinar: Residential Relocation Reports
DESCRIPTION:
URL:https://www2.geowarehouse.ca/session/geowarehouse-webinar-residential-relocation-reports-2/
ATTACH;FMTTYPE=image/jpeg:https://www2.geowarehouse.ca/wp-content/uploads/2012/11/GW-Generic-Blog-Thumbnail-1200x627_v02.jpg
END:VEVENT
BEGIN:VEVENT
DTSTART;TZID=America/Toronto:20250226T150000
DTEND;TZID=America/Toronto:20250226T153000
DTSTAMP:20260422T194843
CREATED:20250127T204833Z
LAST-MODIFIED:20250127T204833Z
UID:10000376-1740582000-1740583800@www2.geowarehouse.ca
SUMMARY:GeoWarehouse Webinar: HoodQ Reports & School Catchment Mapping
DESCRIPTION:
URL:https://www2.geowarehouse.ca/session/geowarehouse-webinar-hoodq-reports-school-catchment-mapping-2/
ATTACH;FMTTYPE=image/jpeg:https://www2.geowarehouse.ca/wp-content/uploads/2012/11/GW-Generic-Blog-Thumbnail-1200x627_v02.jpg
END:VEVENT
BEGIN:VEVENT
DTSTART;TZID=America/Toronto:20250226T140000
DTEND;TZID=America/Toronto:20250226T143000
DTSTAMP:20260422T194843
CREATED:20250127T204339Z
LAST-MODIFIED:20250127T204339Z
UID:10000371-1740578400-1740580200@www2.geowarehouse.ca
SUMMARY:GeoWarehouse Webinar: Teranet Property Insights Report
DESCRIPTION:
URL:https://www2.geowarehouse.ca/session/geowarehouse-webinar-teranet-property-insights-report/
ATTACH;FMTTYPE=image/jpeg:https://www2.geowarehouse.ca/wp-content/uploads/2012/11/GW-Generic-Blog-Thumbnail-1200x627_v02.jpg
END:VEVENT
BEGIN:VEVENT
DTSTART;TZID=America/Toronto:20250226T100000
DTEND;TZID=America/Toronto:20250226T113000
DTSTAMP:20260422T194843
CREATED:20250127T202520Z
LAST-MODIFIED:20250127T202520Z
UID:10000359-1740564000-1740569400@www2.geowarehouse.ca
SUMMARY:Advanced level focusing on mastering GeoWarehouse\, optimizing its use and solving complex challenges
DESCRIPTION:
URL:https://www2.geowarehouse.ca/session/advanced-level-focusing-on-mastering-geowarehouse-optimizing-its-use-and-solving-complex-challenges/
ATTACH;FMTTYPE=image/jpeg:https://www2.geowarehouse.ca/wp-content/uploads/2012/11/GW-Generic-Blog-Thumbnail-1200x627_v02.jpg
END:VEVENT
BEGIN:VEVENT
DTSTART;TZID=America/Toronto:20250225T140000
DTEND;TZID=America/Toronto:20250225T143000
DTSTAMP:20260422T194843
CREATED:20250127T204547Z
LAST-MODIFIED:20250127T204547Z
UID:10000373-1740492000-1740493800@www2.geowarehouse.ca
SUMMARY:GeoWarehouse Webinar: Protect Your Boundaries™ Reports
DESCRIPTION:
URL:https://www2.geowarehouse.ca/session/geowarehouse-webinar-protect-your-boundaries-reports/
ATTACH;FMTTYPE=image/jpeg:https://www2.geowarehouse.ca/wp-content/uploads/2012/11/GW-Generic-Blog-Thumbnail-1200x627_v02.jpg
END:VEVENT
BEGIN:VEVENT
DTSTART;TZID=America/Toronto:20250219T140000
DTEND;TZID=America/Toronto:20250219T153000
DTSTAMP:20260422T194843
CREATED:20250127T201156Z
LAST-MODIFIED:20250127T201904Z
UID:10000357-1739973600-1739979000@www2.geowarehouse.ca
SUMMARY:Advanced Navigation and Intermediate Features
DESCRIPTION:
URL:https://www2.geowarehouse.ca/session/advanced-navigation-and-intermediate-features/
ATTACH;FMTTYPE=image/jpeg:https://www2.geowarehouse.ca/wp-content/uploads/2012/11/GW-Generic-Blog-Thumbnail-1200x627_v02.jpg
END:VEVENT
BEGIN:VEVENT
DTSTART;TZID=America/Toronto:20250218T140000
DTEND;TZID=America/Toronto:20250218T153000
DTSTAMP:20260422T194843
CREATED:20250127T203435Z
LAST-MODIFIED:20250127T203435Z
UID:10000365-1739887200-1739892600@www2.geowarehouse.ca
SUMMARY:Advanced level focusing on mastering GeoWarehouse\, optimizing its use and solving complex challenges for Agents
DESCRIPTION:
URL:https://www2.geowarehouse.ca/session/advanced-level-focusing-on-mastering-geowarehouse-optimizing-its-use-and-solving-complex-challenges-for-agents/
CATEGORIES:Agents Only
ATTACH;FMTTYPE=image/jpeg:https://www2.geowarehouse.ca/wp-content/uploads/2012/11/GW-Generic-Blog-Thumbnail-1200x627_v02.jpg
END:VEVENT
BEGIN:VEVENT
DTSTART;TZID=America/Toronto:20250212T140000
DTEND;TZID=America/Toronto:20250212T143000
DTSTAMP:20260422T194843
CREATED:20250127T203848Z
LAST-MODIFIED:20250127T203848Z
UID:10000367-1739368800-1739370600@www2.geowarehouse.ca
SUMMARY:GeoWarehouse Webinar: Mastering Title Check Tool
DESCRIPTION:
URL:https://www2.geowarehouse.ca/session/geowarehouse-webinar-mastering-title-check-tool/
ATTACH;FMTTYPE=image/jpeg:https://www2.geowarehouse.ca/wp-content/uploads/2012/11/GW-Generic-Blog-Thumbnail-1200x627_v02.jpg
END:VEVENT
BEGIN:VEVENT
DTSTART;TZID=America/Toronto:20250212T110000
DTEND;TZID=America/Toronto:20250212T123000
DTSTAMP:20260422T194843
CREATED:20250127T203221Z
LAST-MODIFIED:20250127T203221Z
UID:10000363-1739358000-1739363400@www2.geowarehouse.ca
SUMMARY:Advanced Navigation and Intermediate Features For Agents
DESCRIPTION:
URL:https://www2.geowarehouse.ca/session/advanced-navigation-and-intermediate-features-for-agents/
CATEGORIES:Agents Only
ATTACH;FMTTYPE=image/jpeg:https://www2.geowarehouse.ca/wp-content/uploads/2012/11/GW-Generic-Blog-Thumbnail-1200x627_v02.jpg
END:VEVENT
BEGIN:VEVENT
DTSTART;TZID=America/Toronto:20250211T140000
DTEND;TZID=America/Toronto:20250211T153000
DTSTAMP:20260422T194843
CREATED:20250127T200835Z
LAST-MODIFIED:20250127T200835Z
UID:10000355-1739282400-1739287800@www2.geowarehouse.ca
SUMMARY:Getting Started with GeoWarehouse
DESCRIPTION:
URL:https://www2.geowarehouse.ca/session/getting-started-with-geowarehouse-21/
ATTACH;FMTTYPE=image/jpeg:https://www2.geowarehouse.ca/wp-content/uploads/2012/11/GW-Generic-Blog-Thumbnail-1200x627_v02.jpg
END:VEVENT
BEGIN:VEVENT
DTSTART;TZID=America/Toronto:20250205T150000
DTEND;TZID=America/Toronto:20250205T153000
DTSTAMP:20260422T194843
CREATED:20250127T204736Z
LAST-MODIFIED:20250127T204736Z
UID:10000375-1738767600-1738769400@www2.geowarehouse.ca
SUMMARY:GeoWarehouse Webinar: HoodQ Reports & School Catchment Mapping
DESCRIPTION:
URL:https://www2.geowarehouse.ca/session/geowarehouse-webinar-hoodq-reports-school-catchment-mapping/
ATTACH;FMTTYPE=image/jpeg:https://www2.geowarehouse.ca/wp-content/uploads/2012/11/GW-Generic-Blog-Thumbnail-1200x627_v02.jpg
END:VEVENT
END:VCALENDAR