BEGIN:VCALENDAR
VERSION:2.0
PRODID:-//Welcome to GeoWarehouse - ECPv6.15.20//NONSGML v1.0//EN
CALSCALE:GREGORIAN
METHOD:PUBLISH
X-WR-CALNAME:Welcome to GeoWarehouse
X-ORIGINAL-URL:https://www2.geowarehouse.ca
X-WR-CALDESC:Events for Welcome to GeoWarehouse
REFRESH-INTERVAL;VALUE=DURATION:PT1H
X-Robots-Tag:noindex
X-PUBLISHED-TTL:PT1H
BEGIN:VTIMEZONE
TZID:America/Toronto
BEGIN:DAYLIGHT
TZOFFSETFROM:-0500
TZOFFSETTO:-0400
TZNAME:EDT
DTSTART:20240310T070000
END:DAYLIGHT
BEGIN:STANDARD
TZOFFSETFROM:-0400
TZOFFSETTO:-0500
TZNAME:EST
DTSTART:20241103T060000
END:STANDARD
BEGIN:DAYLIGHT
TZOFFSETFROM:-0500
TZOFFSETTO:-0400
TZNAME:EDT
DTSTART:20250309T070000
END:DAYLIGHT
BEGIN:STANDARD
TZOFFSETFROM:-0400
TZOFFSETTO:-0500
TZNAME:EST
DTSTART:20251102T060000
END:STANDARD
BEGIN:DAYLIGHT
TZOFFSETFROM:-0500
TZOFFSETTO:-0400
TZNAME:EDT
DTSTART:20260308T070000
END:DAYLIGHT
BEGIN:STANDARD
TZOFFSETFROM:-0400
TZOFFSETTO:-0500
TZNAME:EST
DTSTART:20261101T060000
END:STANDARD
END:VTIMEZONE
BEGIN:VEVENT
DTSTART;TZID=America/Toronto:20250728T100000
DTEND;TZID=America/Toronto:20250728T103000
DTSTAMP:20260422T194714
CREATED:20250625T132218Z
LAST-MODIFIED:20250625T132218Z
UID:10000443-1753696800-1753698600@www2.geowarehouse.ca
SUMMARY:GeoWarehouse Webinar: HoodQ Reports & School Catchment Mapping
DESCRIPTION:
URL:https://www2.geowarehouse.ca/session/geowarehouse-webinar-hoodq-reports-school-catchment-mapping-5/
ATTACH;FMTTYPE=image/jpeg:https://www2.geowarehouse.ca/wp-content/uploads/2012/11/GW-Generic-Blog-Thumbnail-1200x627_v02.jpg
END:VEVENT
BEGIN:VEVENT
DTSTART;TZID=America/Toronto:20250730T100000
DTEND;TZID=America/Toronto:20250730T103000
DTSTAMP:20260422T194714
CREATED:20250625T123222Z
LAST-MODIFIED:20250625T123222Z
UID:10000416-1753869600-1753871400@www2.geowarehouse.ca
SUMMARY:Protect Your Commission with GeoWarehouse - Agent Edition
DESCRIPTION:
URL:https://www2.geowarehouse.ca/session/protect-your-commission-with-geowarehouse-agent-edition-11/
CATEGORIES:Agents Only
ATTACH;FMTTYPE=image/jpeg:https://www2.geowarehouse.ca/wp-content/uploads/2012/11/GW-Generic-Blog-Thumbnail-1200x627_v02.jpg
END:VEVENT
BEGIN:VEVENT
DTSTART;TZID=America/Toronto:20250805T100000
DTEND;TZID=America/Toronto:20250805T113000
DTSTAMP:20260422T194714
CREATED:20250625T124731Z
LAST-MODIFIED:20250625T124731Z
UID:10000422-1754388000-1754393400@www2.geowarehouse.ca
SUMMARY:Getting Started with GeoWarehouse For Agents
DESCRIPTION:
URL:https://www2.geowarehouse.ca/session/getting-started-with-geowarehouse-for-agents-7/
CATEGORIES:Agents Only
ATTACH;FMTTYPE=image/jpeg:https://www2.geowarehouse.ca/wp-content/uploads/2012/11/GW-Generic-Blog-Thumbnail-1200x627_v02.jpg
END:VEVENT
BEGIN:VEVENT
DTSTART;TZID=America/Toronto:20250805T130000
DTEND;TZID=America/Toronto:20250805T133000
DTSTAMP:20260422T194714
CREATED:20250625T134421Z
LAST-MODIFIED:20250926T173801Z
UID:10000448-1754398800-1754400600@www2.geowarehouse.ca
SUMMARY:GeoWarehouse Webinar: Protect Your Boundaries™ Reports
DESCRIPTION:
URL:https://www2.geowarehouse.ca/session/geowarehouse-webinar-protect-your-boundaries-reports-4/
CATEGORIES:Protect Your Commission with GeoWarehouse
ATTACH;FMTTYPE=image/jpeg:https://www2.geowarehouse.ca/wp-content/uploads/2012/11/GW-Generic-Blog-Thumbnail-1200x627_v02.jpg
END:VEVENT
BEGIN:VEVENT
DTSTART;TZID=America/Toronto:20250805T140000
DTEND;TZID=America/Toronto:20250805T150000
DTSTAMP:20260422T194714
CREATED:20250625T130325Z
LAST-MODIFIED:20250625T130325Z
UID:10000431-1754402400-1754406000@www2.geowarehouse.ca
SUMMARY:All About Condos in GeoWarehouse
DESCRIPTION:
URL:https://www2.geowarehouse.ca/session/all-about-condos-in-geowarehouse-2/
ATTACH;FMTTYPE=image/jpeg:https://www2.geowarehouse.ca/wp-content/uploads/2012/11/GW-Generic-Blog-Thumbnail-1200x627_v02.jpg
END:VEVENT
BEGIN:VEVENT
DTSTART;TZID=America/Toronto:20250806T100000
DTEND;TZID=America/Toronto:20250806T113000
DTSTAMP:20260422T194714
CREATED:20250625T125132Z
LAST-MODIFIED:20250625T125132Z
UID:10000425-1754474400-1754479800@www2.geowarehouse.ca
SUMMARY:Advanced Navigation and Intermediate Features For Agents
DESCRIPTION:
URL:https://www2.geowarehouse.ca/session/advanced-navigation-and-intermediate-features-for-agents-6/
CATEGORIES:Agents Only
ATTACH;FMTTYPE=image/jpeg:https://www2.geowarehouse.ca/wp-content/uploads/2012/11/GW-Generic-Blog-Thumbnail-1200x627_v02.jpg
END:VEVENT
BEGIN:VEVENT
DTSTART;TZID=America/Toronto:20250806T140000
DTEND;TZID=America/Toronto:20250806T153000
DTSTAMP:20260422T194714
CREATED:20250625T130750Z
LAST-MODIFIED:20250625T130750Z
UID:10000434-1754488800-1754494200@www2.geowarehouse.ca
SUMMARY:Getting Started with GeoWarehouse
DESCRIPTION:
URL:https://www2.geowarehouse.ca/session/getting-started-with-geowarehouse-27/
ATTACH;FMTTYPE=image/jpeg:https://www2.geowarehouse.ca/wp-content/uploads/2012/11/GW-Generic-Blog-Thumbnail-1200x627_v02.jpg
END:VEVENT
BEGIN:VEVENT
DTSTART;TZID=America/Toronto:20250807T100000
DTEND;TZID=America/Toronto:20250807T113000
DTSTAMP:20260422T194714
CREATED:20250625T125614Z
LAST-MODIFIED:20250625T125614Z
UID:10000428-1754560800-1754566200@www2.geowarehouse.ca
SUMMARY:Advanced level focusing on mastering GeoWarehouse\, optimizing its use and solving complex challenges for Agents
DESCRIPTION:
URL:https://www2.geowarehouse.ca/session/advanced-level-focusing-on-mastering-geowarehouse-optimizing-its-use-and-solving-complex-challenges-for-agents-6/
CATEGORIES:Agents Only
ATTACH;FMTTYPE=image/jpeg:https://www2.geowarehouse.ca/wp-content/uploads/2012/11/GW-Generic-Blog-Thumbnail-1200x627_v02.jpg
END:VEVENT
BEGIN:VEVENT
DTSTART;TZID=America/Toronto:20250807T140000
DTEND;TZID=America/Toronto:20250807T153000
DTSTAMP:20260422T194714
CREATED:20250625T131424Z
LAST-MODIFIED:20250625T131424Z
UID:10000437-1754575200-1754580600@www2.geowarehouse.ca
SUMMARY:Advanced Navigation and Intermediate Features
DESCRIPTION:
URL:https://www2.geowarehouse.ca/session/advanced-navigation-and-intermediate-features-5/
ATTACH;FMTTYPE=image/jpeg:https://www2.geowarehouse.ca/wp-content/uploads/2012/11/GW-Generic-Blog-Thumbnail-1200x627_v02.jpg
END:VEVENT
BEGIN:VEVENT
DTSTART;TZID=America/Toronto:20250811T100000
DTEND;TZID=America/Toronto:20250811T113000
DTSTAMP:20260422T194714
CREATED:20250625T131815Z
LAST-MODIFIED:20250625T131815Z
UID:10000440-1754906400-1754911800@www2.geowarehouse.ca
SUMMARY:Advanced level focusing on mastering GeoWarehouse\, optimizing its use and solving complex challenges
DESCRIPTION:
URL:https://www2.geowarehouse.ca/session/advanced-level-focusing-on-mastering-geowarehouse-optimizing-its-use-and-solving-complex-challenges-6/
ATTACH;FMTTYPE=image/jpeg:https://www2.geowarehouse.ca/wp-content/uploads/2012/11/GW-Generic-Blog-Thumbnail-1200x627_v02.jpg
END:VEVENT
BEGIN:VEVENT
DTSTART;TZID=America/Toronto:20250811T130000
DTEND;TZID=America/Toronto:20250811T133000
DTSTAMP:20260422T194714
CREATED:20250625T133842Z
LAST-MODIFIED:20250625T133842Z
UID:10000444-1754917200-1754919000@www2.geowarehouse.ca
SUMMARY:GeoWarehouse Webinar: HoodQ Reports & School Catchment Mapping
DESCRIPTION:
URL:https://www2.geowarehouse.ca/session/geowarehouse-webinar-hoodq-reports-school-catchment-mapping-6/
ATTACH;FMTTYPE=image/jpeg:https://www2.geowarehouse.ca/wp-content/uploads/2012/11/GW-Generic-Blog-Thumbnail-1200x627_v02.jpg
END:VEVENT
BEGIN:VEVENT
DTSTART;TZID=America/Toronto:20250811T140000
DTEND;TZID=America/Toronto:20250811T143000
DTSTAMP:20260422T194714
CREATED:20250625T155241Z
LAST-MODIFIED:20250625T155241Z
UID:10000456-1754920800-1754922600@www2.geowarehouse.ca
SUMMARY:GeoWarehouse Webinar: Teranet Property Insights Report
DESCRIPTION:
URL:https://www2.geowarehouse.ca/session/geowarehouse-webinar-teranet-property-insights-report-3/
ATTACH;FMTTYPE=image/jpeg:https://www2.geowarehouse.ca/wp-content/uploads/2012/11/GW-Generic-Blog-Thumbnail-1200x627_v02.jpg
END:VEVENT
BEGIN:VEVENT
DTSTART;TZID=America/Toronto:20250813T140000
DTEND;TZID=America/Toronto:20250813T143000
DTSTAMP:20260422T194714
CREATED:20250625T124015Z
LAST-MODIFIED:20250625T124015Z
UID:10000417-1755093600-1755095400@www2.geowarehouse.ca
SUMMARY:Protect Your Commission with GeoWarehouse - Agent Edition
DESCRIPTION:
URL:https://www2.geowarehouse.ca/session/protect-your-commission-with-geowarehouse-agent-edition-12/
CATEGORIES:Agents Only
ATTACH;FMTTYPE=image/jpeg:https://www2.geowarehouse.ca/wp-content/uploads/2012/11/GW-Generic-Blog-Thumbnail-1200x627_v02.jpg
END:VEVENT
BEGIN:VEVENT
DTSTART;TZID=America/Toronto:20250820T100000
DTEND;TZID=America/Toronto:20250820T103000
DTSTAMP:20260422T194714
CREATED:20250625T154454Z
LAST-MODIFIED:20250625T154454Z
UID:10000453-1755684000-1755685800@www2.geowarehouse.ca
SUMMARY:GeoWarehouse Webinar: Residential Relocation Reports
DESCRIPTION:
URL:https://www2.geowarehouse.ca/session/geowarehouse-webinar-residential-relocation-reports-4/
ATTACH;FMTTYPE=image/jpeg:https://www2.geowarehouse.ca/wp-content/uploads/2012/11/GW-Generic-Blog-Thumbnail-1200x627_v02.jpg
END:VEVENT
BEGIN:VEVENT
DTSTART;TZID=America/Toronto:20250826T100000
DTEND;TZID=America/Toronto:20250826T103000
DTSTAMP:20260422T194714
CREATED:20250625T135215Z
LAST-MODIFIED:20250926T173802Z
UID:10000449-1756202400-1756204200@www2.geowarehouse.ca
SUMMARY:GeoWarehouse Webinar: Protect Your Boundaries™ Reports
DESCRIPTION:
URL:https://www2.geowarehouse.ca/session/geowarehouse-webinar-protect-your-boundaries-reports-5/
CATEGORIES:Protect Your Commission with GeoWarehouse
ATTACH;FMTTYPE=image/jpeg:https://www2.geowarehouse.ca/wp-content/uploads/2012/11/GW-Generic-Blog-Thumbnail-1200x627_v02.jpg
END:VEVENT
BEGIN:VEVENT
DTSTART;TZID=America/Toronto:20250827T100000
DTEND;TZID=America/Toronto:20250827T103000
DTSTAMP:20260422T194714
CREATED:20250625T124158Z
LAST-MODIFIED:20250625T124158Z
UID:10000418-1756288800-1756290600@www2.geowarehouse.ca
SUMMARY:Protect Your Commission with GeoWarehouse - Agent Edition
DESCRIPTION:
URL:https://www2.geowarehouse.ca/session/protect-your-commission-with-geowarehouse-agent-edition-13/
CATEGORIES:Agents Only
ATTACH;FMTTYPE=image/jpeg:https://www2.geowarehouse.ca/wp-content/uploads/2012/11/GW-Generic-Blog-Thumbnail-1200x627_v02.jpg
END:VEVENT
BEGIN:VEVENT
DTSTART;TZID=America/Toronto:20250902T110000
DTEND;TZID=America/Toronto:20250902T123000
DTSTAMP:20260422T194714
CREATED:20250625T124929Z
LAST-MODIFIED:20250625T124929Z
UID:10000423-1756810800-1756816200@www2.geowarehouse.ca
SUMMARY:Getting Started with GeoWarehouse For Agents
DESCRIPTION:
URL:https://www2.geowarehouse.ca/session/getting-started-with-geowarehouse-for-agents-8/
CATEGORIES:Agents Only
ATTACH;FMTTYPE=image/jpeg:https://www2.geowarehouse.ca/wp-content/uploads/2012/11/GW-Generic-Blog-Thumbnail-1200x627_v02.jpg
END:VEVENT
BEGIN:VEVENT
DTSTART;TZID=America/Toronto:20250902T130000
DTEND;TZID=America/Toronto:20250902T133000
DTSTAMP:20260422T194714
CREATED:20250625T134109Z
LAST-MODIFIED:20250625T134109Z
UID:10000445-1756818000-1756819800@www2.geowarehouse.ca
SUMMARY:GeoWarehouse Webinar: HoodQ Reports & School Catchment Mapping
DESCRIPTION:
URL:https://www2.geowarehouse.ca/session/geowarehouse-webinar-hoodq-reports-school-catchment-mapping-7/
ATTACH;FMTTYPE=image/jpeg:https://www2.geowarehouse.ca/wp-content/uploads/2012/11/GW-Generic-Blog-Thumbnail-1200x627_v02.jpg
END:VEVENT
BEGIN:VEVENT
DTSTART;TZID=America/Toronto:20250902T140000
DTEND;TZID=America/Toronto:20250902T150000
DTSTAMP:20260422T194714
CREATED:20250625T130423Z
LAST-MODIFIED:20250625T130423Z
UID:10000432-1756821600-1756825200@www2.geowarehouse.ca
SUMMARY:All About Condos in GeoWarehouse
DESCRIPTION:
URL:https://www2.geowarehouse.ca/session/all-about-condos-in-geowarehouse-3/
ATTACH;FMTTYPE=image/jpeg:https://www2.geowarehouse.ca/wp-content/uploads/2012/11/GW-Generic-Blog-Thumbnail-1200x627_v02.jpg
END:VEVENT
BEGIN:VEVENT
DTSTART;TZID=America/Toronto:20250903T100000
DTEND;TZID=America/Toronto:20250903T113000
DTSTAMP:20260422T194714
CREATED:20250625T125240Z
LAST-MODIFIED:20250625T125240Z
UID:10000426-1756893600-1756899000@www2.geowarehouse.ca
SUMMARY:Advanced Navigation and Intermediate Features For Agents
DESCRIPTION:
URL:https://www2.geowarehouse.ca/session/advanced-navigation-and-intermediate-features-for-agents-7/
CATEGORIES:Agents Only
ATTACH;FMTTYPE=image/jpeg:https://www2.geowarehouse.ca/wp-content/uploads/2012/11/GW-Generic-Blog-Thumbnail-1200x627_v02.jpg
END:VEVENT
BEGIN:VEVENT
DTSTART;TZID=America/Toronto:20250903T140000
DTEND;TZID=America/Toronto:20250903T153000
DTSTAMP:20260422T194714
CREATED:20250625T130856Z
LAST-MODIFIED:20250625T130856Z
UID:10000435-1756908000-1756913400@www2.geowarehouse.ca
SUMMARY:Getting Started with GeoWarehouse
DESCRIPTION:
URL:https://www2.geowarehouse.ca/session/getting-started-with-geowarehouse-28/
ATTACH;FMTTYPE=image/jpeg:https://www2.geowarehouse.ca/wp-content/uploads/2012/11/GW-Generic-Blog-Thumbnail-1200x627_v02.jpg
END:VEVENT
BEGIN:VEVENT
DTSTART;TZID=America/Toronto:20250904T100000
DTEND;TZID=America/Toronto:20250904T113000
DTSTAMP:20260422T194714
CREATED:20250625T125737Z
LAST-MODIFIED:20250625T125737Z
UID:10000429-1756980000-1756985400@www2.geowarehouse.ca
SUMMARY:Advanced level focusing on mastering GeoWarehouse\, optimizing its use and solving complex challenges for Agents
DESCRIPTION:
URL:https://www2.geowarehouse.ca/session/advanced-level-focusing-on-mastering-geowarehouse-optimizing-its-use-and-solving-complex-challenges-for-agents-7/
CATEGORIES:Agents Only
ATTACH;FMTTYPE=image/jpeg:https://www2.geowarehouse.ca/wp-content/uploads/2012/11/GW-Generic-Blog-Thumbnail-1200x627_v02.jpg
END:VEVENT
BEGIN:VEVENT
DTSTART;TZID=America/Toronto:20250904T140000
DTEND;TZID=America/Toronto:20250904T153000
DTSTAMP:20260422T194714
CREATED:20250625T131543Z
LAST-MODIFIED:20250625T131543Z
UID:10000438-1756994400-1756999800@www2.geowarehouse.ca
SUMMARY:Advanced Navigation and Intermediate Features
DESCRIPTION:
URL:https://www2.geowarehouse.ca/session/advanced-navigation-and-intermediate-features-6/
ATTACH;FMTTYPE=image/jpeg:https://www2.geowarehouse.ca/wp-content/uploads/2012/11/GW-Generic-Blog-Thumbnail-1200x627_v02.jpg
END:VEVENT
BEGIN:VEVENT
DTSTART;TZID=America/Toronto:20250908T100000
DTEND;TZID=America/Toronto:20250908T113000
DTSTAMP:20260422T194714
CREATED:20250625T131912Z
LAST-MODIFIED:20250625T131912Z
UID:10000441-1757325600-1757331000@www2.geowarehouse.ca
SUMMARY:Advanced level focusing on mastering GeoWarehouse\, optimizing its use and solving complex challenges
DESCRIPTION:
URL:https://www2.geowarehouse.ca/session/advanced-level-focusing-on-mastering-geowarehouse-optimizing-its-use-and-solving-complex-challenges-7/
ATTACH;FMTTYPE=image/jpeg:https://www2.geowarehouse.ca/wp-content/uploads/2012/11/GW-Generic-Blog-Thumbnail-1200x627_v02.jpg
END:VEVENT
BEGIN:VEVENT
DTSTART;TZID=America/Toronto:20250909T100000
DTEND;TZID=America/Toronto:20250909T103000
DTSTAMP:20260422T194714
CREATED:20250625T153957Z
LAST-MODIFIED:20250926T173803Z
UID:10000450-1757412000-1757413800@www2.geowarehouse.ca
SUMMARY:GeoWarehouse Webinar: Protect Your Boundaries™ Reports
DESCRIPTION:
URL:https://www2.geowarehouse.ca/session/geowarehouse-webinar-protect-your-boundaries-reports-6/
CATEGORIES:Protect Your Commission with GeoWarehouse
ATTACH;FMTTYPE=image/jpeg:https://www2.geowarehouse.ca/wp-content/uploads/2012/11/GW-Generic-Blog-Thumbnail-1200x627_v02.jpg
END:VEVENT
BEGIN:VEVENT
DTSTART;TZID=America/Toronto:20250910T100000
DTEND;TZID=America/Toronto:20250910T103000
DTSTAMP:20260422T194714
CREATED:20250625T124325Z
LAST-MODIFIED:20250625T124325Z
UID:10000419-1757498400-1757500200@www2.geowarehouse.ca
SUMMARY:Protect Your Commission with GeoWarehouse - Agent Edition
DESCRIPTION:
URL:https://www2.geowarehouse.ca/session/protect-your-commission-with-geowarehouse-agent-edition-14/
CATEGORIES:Agents Only
ATTACH;FMTTYPE=image/jpeg:https://www2.geowarehouse.ca/wp-content/uploads/2012/11/GW-Generic-Blog-Thumbnail-1200x627_v02.jpg
END:VEVENT
BEGIN:VEVENT
DTSTART;TZID=America/Toronto:20250910T140000
DTEND;TZID=America/Toronto:20250910T143000
DTSTAMP:20260422T194714
CREATED:20250625T155357Z
LAST-MODIFIED:20250625T155357Z
UID:10000457-1757512800-1757514600@www2.geowarehouse.ca
SUMMARY:GeoWarehouse Webinar: Teranet Property Insights Report
DESCRIPTION:
URL:https://www2.geowarehouse.ca/session/geowarehouse-webinar-teranet-property-insights-report-4/
ATTACH;FMTTYPE=image/jpeg:https://www2.geowarehouse.ca/wp-content/uploads/2012/11/GW-Generic-Blog-Thumbnail-1200x627_v02.jpg
END:VEVENT
BEGIN:VEVENT
DTSTART;TZID=America/Toronto:20250923T140000
DTEND;TZID=America/Toronto:20250923T143000
DTSTAMP:20260422T194714
CREATED:20250625T134235Z
LAST-MODIFIED:20250625T134235Z
UID:10000446-1758636000-1758637800@www2.geowarehouse.ca
SUMMARY:GeoWarehouse Webinar: HoodQ Reports & School Catchment Mapping
DESCRIPTION:
URL:https://www2.geowarehouse.ca/session/geowarehouse-webinar-hoodq-reports-school-catchment-mapping-8/
ATTACH;FMTTYPE=image/jpeg:https://www2.geowarehouse.ca/wp-content/uploads/2012/11/GW-Generic-Blog-Thumbnail-1200x627_v02.jpg
END:VEVENT
BEGIN:VEVENT
DTSTART;TZID=America/Toronto:20250924T100000
DTEND;TZID=America/Toronto:20250924T103000
DTSTAMP:20260422T194714
CREATED:20250625T124426Z
LAST-MODIFIED:20250625T124426Z
UID:10000420-1758708000-1758709800@www2.geowarehouse.ca
SUMMARY:Protect Your Commission with GeoWarehouse - Agent Edition
DESCRIPTION:
URL:https://www2.geowarehouse.ca/session/protect-your-commission-with-geowarehouse-agent-edition-15/
CATEGORIES:Agents Only
ATTACH;FMTTYPE=image/jpeg:https://www2.geowarehouse.ca/wp-content/uploads/2012/11/GW-Generic-Blog-Thumbnail-1200x627_v02.jpg
END:VEVENT
BEGIN:VEVENT
DTSTART;TZID=America/Toronto:20250924T110000
DTEND;TZID=America/Toronto:20250924T113000
DTSTAMP:20260422T194714
CREATED:20250625T195902Z
LAST-MODIFIED:20250625T195902Z
UID:10000458-1758711600-1758713400@www2.geowarehouse.ca
SUMMARY:GeoWarehouse Webinar: Residential Relocation Reports
DESCRIPTION:
URL:https://www2.geowarehouse.ca/session/geowarehouse-webinar-residential-relocation-reports-5/
ATTACH;FMTTYPE=image/jpeg:https://www2.geowarehouse.ca/wp-content/uploads/2012/11/GW-Generic-Blog-Thumbnail-1200x627_v02.jpg
END:VEVENT
END:VCALENDAR