BEGIN:VCALENDAR
VERSION:2.0
PRODID:-//Welcome to GeoWarehouse - ECPv6.15.4//NONSGML v1.0//EN
CALSCALE:GREGORIAN
METHOD:PUBLISH
X-ORIGINAL-URL:https://www2.geowarehouse.ca
X-WR-CALDESC:Events for Welcome to GeoWarehouse
REFRESH-INTERVAL;VALUE=DURATION:PT1H
X-Robots-Tag:noindex
X-PUBLISHED-TTL:PT1H
BEGIN:VTIMEZONE
TZID:America/Toronto
BEGIN:DAYLIGHT
TZOFFSETFROM:-0500
TZOFFSETTO:-0400
TZNAME:EDT
DTSTART:20260308T070000
END:DAYLIGHT
BEGIN:STANDARD
TZOFFSETFROM:-0400
TZOFFSETTO:-0500
TZNAME:EST
DTSTART:20261101T060000
END:STANDARD
END:VTIMEZONE
BEGIN:VEVENT
DTSTART;TZID=America/Toronto:20260526T100000
DTEND;TZID=America/Toronto:20260526T110000
DTSTAMP:20260422T155855
CREATED:20260327T170912Z
LAST-MODIFIED:20260402T144536Z
UID:10000555-1779789600-1779793200@www2.geowarehouse.ca
SUMMARY:GeoWarehouse for Confident Buyer Decisions
DESCRIPTION:
URL:https://www2.geowarehouse.ca/session/geowarehouse-for-confident-buyer-decisions-4/
CATEGORIES:Agents Only,Real Estate
ATTACH;FMTTYPE=image/jpeg:https://www2.geowarehouse.ca/wp-content/uploads/2012/11/GW-Generic-Blog-Thumbnail-1200x627_v02.jpg
END:VEVENT
BEGIN:VEVENT
DTSTART;TZID=America/Toronto:20260526T130000
DTEND;TZID=America/Toronto:20260526T140000
DTSTAMP:20260422T155855
CREATED:20260327T170818Z
LAST-MODIFIED:20260327T170818Z
UID:10000556-1779800400-1779804000@www2.geowarehouse.ca
SUMMARY:Understanding Land Information with Teranet Tools
DESCRIPTION:
URL:https://www2.geowarehouse.ca/session/understanding-land-information-with-teranet-tools-4/
CATEGORIES:Agents Only,Real Estate
ATTACH;FMTTYPE=image/jpeg:https://www2.geowarehouse.ca/wp-content/uploads/2012/11/GW-Generic-Blog-Thumbnail-1200x627_v02.jpg
END:VEVENT
END:VCALENDAR