BEGIN:VCALENDAR
VERSION:2.0
PRODID:-//Welcome to GeoWarehouse - ECPv6.15.20//NONSGML v1.0//EN
CALSCALE:GREGORIAN
METHOD:PUBLISH
X-WR-CALNAME:Welcome to GeoWarehouse
X-ORIGINAL-URL:https://www2.geowarehouse.ca
X-WR-CALDESC:Events for Welcome to GeoWarehouse
REFRESH-INTERVAL;VALUE=DURATION:PT1H
X-Robots-Tag:noindex
X-PUBLISHED-TTL:PT1H
BEGIN:VTIMEZONE
TZID:America/Toronto
BEGIN:DAYLIGHT
TZOFFSETFROM:-0500
TZOFFSETTO:-0400
TZNAME:EDT
DTSTART:20240310T070000
END:DAYLIGHT
BEGIN:STANDARD
TZOFFSETFROM:-0400
TZOFFSETTO:-0500
TZNAME:EST
DTSTART:20241103T060000
END:STANDARD
BEGIN:DAYLIGHT
TZOFFSETFROM:-0500
TZOFFSETTO:-0400
TZNAME:EDT
DTSTART:20250309T070000
END:DAYLIGHT
BEGIN:STANDARD
TZOFFSETFROM:-0400
TZOFFSETTO:-0500
TZNAME:EST
DTSTART:20251102T060000
END:STANDARD
BEGIN:DAYLIGHT
TZOFFSETFROM:-0500
TZOFFSETTO:-0400
TZNAME:EDT
DTSTART:20260308T070000
END:DAYLIGHT
BEGIN:STANDARD
TZOFFSETFROM:-0400
TZOFFSETTO:-0500
TZNAME:EST
DTSTART:20261101T060000
END:STANDARD
END:VTIMEZONE
BEGIN:VEVENT
DTSTART;TZID=America/Toronto:20250721T110000
DTEND;TZID=America/Toronto:20250721T113000
DTSTAMP:20260422T200541
CREATED:20250625T155133Z
LAST-MODIFIED:20250625T155133Z
UID:10000455-1753095600-1753097400@www2.geowarehouse.ca
SUMMARY:GeoWarehouse Webinar: Teranet Property Insights Report
DESCRIPTION:
URL:https://www2.geowarehouse.ca/session/geowarehouse-webinar-teranet-property-insights-report-2/
ATTACH;FMTTYPE=image/jpeg:https://www2.geowarehouse.ca/wp-content/uploads/2012/11/GW-Generic-Blog-Thumbnail-1200x627_v02.jpg
END:VEVENT
BEGIN:VEVENT
DTSTART;TZID=America/Toronto:20250721T100000
DTEND;TZID=America/Toronto:20250721T103000
DTSTAMP:20260422T200541
CREATED:20250625T134339Z
LAST-MODIFIED:20250625T134339Z
UID:10000447-1753092000-1753093800@www2.geowarehouse.ca
SUMMARY:GeoWarehouse Webinar: Protect Your Boundaries™ Reports
DESCRIPTION:
URL:https://www2.geowarehouse.ca/session/geowarehouse-webinar-protect-your-boundaries-reports-3/
ATTACH;FMTTYPE=image/jpeg:https://www2.geowarehouse.ca/wp-content/uploads/2012/11/GW-Generic-Blog-Thumbnail-1200x627_v02.jpg
END:VEVENT
BEGIN:VEVENT
DTSTART;TZID=America/Toronto:20250716T140000
DTEND;TZID=America/Toronto:20250716T143000
DTSTAMP:20260422T200541
CREATED:20250625T123009Z
LAST-MODIFIED:20250625T123009Z
UID:10000415-1752674400-1752676200@www2.geowarehouse.ca
SUMMARY:Protect Your Commission with GeoWarehouse - Agent Edition
DESCRIPTION:
URL:https://www2.geowarehouse.ca/session/protect-your-commission-with-geowarehouse-agent-edition-10/
CATEGORIES:Agents Only
ATTACH;FMTTYPE=image/jpeg:https://www2.geowarehouse.ca/wp-content/uploads/2012/11/GW-Generic-Blog-Thumbnail-1200x627_v02.jpg
END:VEVENT
BEGIN:VEVENT
DTSTART;TZID=America/Toronto:20250714T100000
DTEND;TZID=America/Toronto:20250714T103000
DTSTAMP:20260422T200541
CREATED:20250625T132046Z
LAST-MODIFIED:20250625T132046Z
UID:10000442-1752487200-1752489000@www2.geowarehouse.ca
SUMMARY:GeoWarehouse Webinar: HoodQ Reports & School Catchment Mapping
DESCRIPTION:
URL:https://www2.geowarehouse.ca/session/geowarehouse-webinar-hoodq-reports-school-catchment-mapping-4/
ATTACH;FMTTYPE=image/jpeg:https://www2.geowarehouse.ca/wp-content/uploads/2012/11/GW-Generic-Blog-Thumbnail-1200x627_v02.jpg
END:VEVENT
BEGIN:VEVENT
DTSTART;TZID=America/Toronto:20250710T140000
DTEND;TZID=America/Toronto:20250710T153000
DTSTAMP:20260422T200541
CREATED:20250625T125504Z
LAST-MODIFIED:20250625T125504Z
UID:10000427-1752156000-1752161400@www2.geowarehouse.ca
SUMMARY:Advanced level focusing on mastering GeoWarehouse\, optimizing its use and solving complex challenges for Agents
DESCRIPTION:
URL:https://www2.geowarehouse.ca/session/advanced-level-focusing-on-mastering-geowarehouse-optimizing-its-use-and-solving-complex-challenges-for-agents-5/
CATEGORIES:Agents Only
ATTACH;FMTTYPE=image/jpeg:https://www2.geowarehouse.ca/wp-content/uploads/2012/11/GW-Generic-Blog-Thumbnail-1200x627_v02.jpg
END:VEVENT
BEGIN:VEVENT
DTSTART;TZID=America/Toronto:20250709T140000
DTEND;TZID=America/Toronto:20250709T153000
DTSTAMP:20260422T200541
CREATED:20250625T131717Z
LAST-MODIFIED:20250625T131717Z
UID:10000439-1752069600-1752075000@www2.geowarehouse.ca
SUMMARY:Advanced level focusing on mastering GeoWarehouse\, optimizing its use and solving complex challenges
DESCRIPTION:
URL:https://www2.geowarehouse.ca/session/advanced-level-focusing-on-mastering-geowarehouse-optimizing-its-use-and-solving-complex-challenges-5/
ATTACH;FMTTYPE=image/jpeg:https://www2.geowarehouse.ca/wp-content/uploads/2012/11/GW-Generic-Blog-Thumbnail-1200x627_v02.jpg
END:VEVENT
BEGIN:VEVENT
DTSTART;TZID=America/Toronto:20250708T140000
DTEND;TZID=America/Toronto:20250708T153000
DTSTAMP:20260422T200541
CREATED:20250625T131248Z
LAST-MODIFIED:20250625T131248Z
UID:10000436-1751983200-1751988600@www2.geowarehouse.ca
SUMMARY:Advanced Navigation and Intermediate Features
DESCRIPTION:
URL:https://www2.geowarehouse.ca/session/advanced-navigation-and-intermediate-features-4/
ATTACH;FMTTYPE=image/jpeg:https://www2.geowarehouse.ca/wp-content/uploads/2012/11/GW-Generic-Blog-Thumbnail-1200x627_v02.jpg
END:VEVENT
BEGIN:VEVENT
DTSTART;TZID=America/Toronto:20250708T100000
DTEND;TZID=America/Toronto:20250708T113000
DTSTAMP:20260422T200541
CREATED:20250625T125039Z
LAST-MODIFIED:20250625T125039Z
UID:10000424-1751968800-1751974200@www2.geowarehouse.ca
SUMMARY:Advanced Navigation and Intermediate Features For Agents
DESCRIPTION:
URL:https://www2.geowarehouse.ca/session/advanced-navigation-and-intermediate-features-for-agents-5/
CATEGORIES:Agents Only
ATTACH;FMTTYPE=image/jpeg:https://www2.geowarehouse.ca/wp-content/uploads/2012/11/GW-Generic-Blog-Thumbnail-1200x627_v02.jpg
END:VEVENT
BEGIN:VEVENT
DTSTART;TZID=America/Toronto:20250707T140000
DTEND;TZID=America/Toronto:20250707T153000
DTSTAMP:20260422T200541
CREATED:20250625T130646Z
LAST-MODIFIED:20250625T130646Z
UID:10000433-1751896800-1751902200@www2.geowarehouse.ca
SUMMARY:Getting Started with GeoWarehouse
DESCRIPTION:
URL:https://www2.geowarehouse.ca/session/getting-started-with-geowarehouse-26/
ATTACH;FMTTYPE=image/jpeg:https://www2.geowarehouse.ca/wp-content/uploads/2012/11/GW-Generic-Blog-Thumbnail-1200x627_v02.jpg
END:VEVENT
BEGIN:VEVENT
DTSTART;TZID=America/Toronto:20250707T100000
DTEND;TZID=America/Toronto:20250707T113000
DTSTAMP:20260422T200541
CREATED:20250625T124602Z
LAST-MODIFIED:20250625T124602Z
UID:10000421-1751882400-1751887800@www2.geowarehouse.ca
SUMMARY:Getting Started with GeoWarehouse For Agents
DESCRIPTION:
URL:https://www2.geowarehouse.ca/session/getting-started-with-geowarehouse-for-agents-6/
CATEGORIES:Agents Only
ATTACH;FMTTYPE=image/jpeg:https://www2.geowarehouse.ca/wp-content/uploads/2012/11/GW-Generic-Blog-Thumbnail-1200x627_v02.jpg
END:VEVENT
BEGIN:VEVENT
DTSTART;TZID=America/Toronto:20250703T140000
DTEND;TZID=America/Toronto:20250703T150000
DTSTAMP:20260422T200541
CREATED:20250625T130131Z
LAST-MODIFIED:20250625T130131Z
UID:10000430-1751551200-1751554800@www2.geowarehouse.ca
SUMMARY:All About Condos in GeoWarehouse
DESCRIPTION:
URL:https://www2.geowarehouse.ca/session/all-about-condos-in-geowarehouse/
ATTACH;FMTTYPE=image/jpeg:https://www2.geowarehouse.ca/wp-content/uploads/2012/11/GW-Generic-Blog-Thumbnail-1200x627_v02.jpg
END:VEVENT
BEGIN:VEVENT
DTSTART;TZID=America/Toronto:20250702T140000
DTEND;TZID=America/Toronto:20250702T143000
DTSTAMP:20260422T200541
CREATED:20250625T122822Z
LAST-MODIFIED:20250625T122822Z
UID:10000414-1751464800-1751466600@www2.geowarehouse.ca
SUMMARY:Protect Your Commission with GeoWarehouse - Agent Edition
DESCRIPTION:
URL:https://www2.geowarehouse.ca/session/protect-your-commission-with-geowarehouse-agent-edition-9/
CATEGORIES:Agents Only
ATTACH;FMTTYPE=image/jpeg:https://www2.geowarehouse.ca/wp-content/uploads/2012/11/GW-Generic-Blog-Thumbnail-1200x627_v02.jpg
END:VEVENT
BEGIN:VEVENT
DTSTART;TZID=America/Toronto:20250626T100000
DTEND;TZID=America/Toronto:20250626T113000
DTSTAMP:20260422T200541
CREATED:20250331T181659Z
LAST-MODIFIED:20250404T183616Z
UID:10000401-1750932000-1750937400@www2.geowarehouse.ca
SUMMARY:Advanced level focusing on mastering GeoWarehouse\, optimizing its use and solving complex challenges
DESCRIPTION:
URL:https://www2.geowarehouse.ca/session/advanced-level-focusing-on-mastering-geowarehouse-optimizing-its-use-and-solving-complex-challenges-4/
ATTACH;FMTTYPE=image/jpeg:https://www2.geowarehouse.ca/wp-content/uploads/2012/11/GW-Generic-Blog-Thumbnail-1200x627_v02.jpg
END:VEVENT
BEGIN:VEVENT
DTSTART;TZID=America/Toronto:20250619T110000
DTEND;TZID=America/Toronto:20250619T123000
DTSTAMP:20260422T200541
CREATED:20250331T180352Z
LAST-MODIFIED:20250404T183650Z
UID:10000387-1750330800-1750336200@www2.geowarehouse.ca
SUMMARY:Advanced level focusing on mastering GeoWarehouse\, optimizing its use and solving complex challenges for Agents
DESCRIPTION:
URL:https://www2.geowarehouse.ca/session/advanced-level-focusing-on-mastering-geowarehouse-optimizing-its-use-and-solving-complex-challenges-for-agents-4/
CATEGORIES:Agents Only
ATTACH;FMTTYPE=image/jpeg:https://www2.geowarehouse.ca/wp-content/uploads/2012/11/GW-Generic-Blog-Thumbnail-1200x627_v02.jpg
END:VEVENT
BEGIN:VEVENT
DTSTART;TZID=America/Toronto:20250618T140000
DTEND;TZID=America/Toronto:20250618T153000
DTSTAMP:20260422T200541
CREATED:20250331T180203Z
LAST-MODIFIED:20250404T183657Z
UID:10000385-1750255200-1750260600@www2.geowarehouse.ca
SUMMARY:Advanced Navigation and Intermediate Features For Agents
DESCRIPTION:
URL:https://www2.geowarehouse.ca/session/advanced-navigation-and-intermediate-features-for-agents-4/
CATEGORIES:Agents Only
ATTACH;FMTTYPE=image/jpeg:https://www2.geowarehouse.ca/wp-content/uploads/2012/11/GW-Generic-Blog-Thumbnail-1200x627_v02.jpg
END:VEVENT
BEGIN:VEVENT
DTSTART;TZID=America/Toronto:20250618T100000
DTEND;TZID=America/Toronto:20250618T103000
DTSTAMP:20260422T200541
CREATED:20250331T181135Z
LAST-MODIFIED:20250404T183743Z
UID:10000394-1750240800-1750242600@www2.geowarehouse.ca
SUMMARY:Protect Your Commission with GeoWarehouse - Agent Edition
DESCRIPTION:
URL:https://www2.geowarehouse.ca/session/protect-your-commission-with-geowarehouse-agent-edition-7/
CATEGORIES:Agents Only
ATTACH;FMTTYPE=image/jpeg:https://www2.geowarehouse.ca/wp-content/uploads/2012/11/GW-Generic-Blog-Thumbnail-1200x627_v02.jpg
END:VEVENT
BEGIN:VEVENT
DTSTART;TZID=America/Toronto:20250612T140000
DTEND;TZID=America/Toronto:20250612T143000
DTSTAMP:20260422T200541
CREATED:20250331T182424Z
LAST-MODIFIED:20250404T183755Z
UID:10000410-1749736800-1749738600@www2.geowarehouse.ca
SUMMARY:Protect Your Boundaries™ Reports
DESCRIPTION:
URL:https://www2.geowarehouse.ca/session/protect-your-boundaries-reports-20/
ATTACH;FMTTYPE=image/jpeg:https://www2.geowarehouse.ca/wp-content/uploads/2012/11/GW-Generic-Blog-Thumbnail-1200x627_v02.jpg
END:VEVENT
BEGIN:VEVENT
DTSTART;TZID=America/Toronto:20250612T110000
DTEND;TZID=America/Toronto:20250612T113000
DTSTAMP:20260422T200541
CREATED:20250331T182148Z
LAST-MODIFIED:20250404T183800Z
UID:10000407-1749726000-1749727800@www2.geowarehouse.ca
SUMMARY:Residential Relocation Reports
DESCRIPTION:
URL:https://www2.geowarehouse.ca/session/residential-relocation-reports-24/
ATTACH;FMTTYPE=image/jpeg:https://www2.geowarehouse.ca/wp-content/uploads/2012/11/GW-Generic-Blog-Thumbnail-1200x627_v02.jpg
END:VEVENT
BEGIN:VEVENT
DTSTART;TZID=America/Toronto:20250611T140000
DTEND;TZID=America/Toronto:20250611T153000
DTSTAMP:20260422T200541
CREATED:20250331T181429Z
LAST-MODIFIED:20250404T183805Z
UID:10000397-1749650400-1749655800@www2.geowarehouse.ca
SUMMARY:Getting Started with GeoWarehouse
DESCRIPTION:
URL:https://www2.geowarehouse.ca/session/getting-started-with-geowarehouse-25/
ATTACH;FMTTYPE=image/jpeg:https://www2.geowarehouse.ca/wp-content/uploads/2012/11/GW-Generic-Blog-Thumbnail-1200x627_v02.jpg
END:VEVENT
BEGIN:VEVENT
DTSTART;TZID=America/Toronto:20250611T110000
DTEND;TZID=America/Toronto:20250611T123000
DTSTAMP:20260422T200541
CREATED:20250331T180000Z
LAST-MODIFIED:20250404T183808Z
UID:10000383-1749639600-1749645000@www2.geowarehouse.ca
SUMMARY:Getting Started with GeoWarehouse For Agents
DESCRIPTION:
URL:https://www2.geowarehouse.ca/session/getting-started-with-geowarehouse-for-agents-5/
CATEGORIES:Agents Only
ATTACH;FMTTYPE=image/jpeg:https://www2.geowarehouse.ca/wp-content/uploads/2012/11/GW-Generic-Blog-Thumbnail-1200x627_v02.jpg
END:VEVENT
BEGIN:VEVENT
DTSTART;TZID=America/Toronto:20250610T150000
DTEND;TZID=America/Toronto:20250610T153000
DTSTAMP:20260422T200541
CREATED:20250331T181931Z
LAST-MODIFIED:20250404T183812Z
UID:10000404-1749567600-1749569400@www2.geowarehouse.ca
SUMMARY:Teranet Property Insights Report
DESCRIPTION:
URL:https://www2.geowarehouse.ca/session/teranet-property-insights-report-3/
ATTACH;FMTTYPE=image/jpeg:https://www2.geowarehouse.ca/wp-content/uploads/2012/11/GW-Generic-Blog-Thumbnail-1200x627_v02.jpg
END:VEVENT
BEGIN:VEVENT
DTSTART;TZID=America/Toronto:20250610T140000
DTEND;TZID=America/Toronto:20250610T143000
DTSTAMP:20260422T200541
CREATED:20250331T181047Z
LAST-MODIFIED:20250404T183815Z
UID:10000393-1749564000-1749565800@www2.geowarehouse.ca
SUMMARY:Protect Your Commission with GeoWarehouse - Agent Edition
DESCRIPTION:
URL:https://www2.geowarehouse.ca/session/protect-your-commission-with-geowarehouse-agent-edition-6/
CATEGORIES:Agents Only
ATTACH;FMTTYPE=image/jpeg:https://www2.geowarehouse.ca/wp-content/uploads/2012/11/GW-Generic-Blog-Thumbnail-1200x627_v02.jpg
END:VEVENT
BEGIN:VEVENT
DTSTART;TZID=America/Toronto:20250604T110000
DTEND;TZID=America/Toronto:20250604T113000
DTSTAMP:20260422T200541
CREATED:20250331T182629Z
LAST-MODIFIED:20250404T183820Z
UID:10000412-1749034800-1749036600@www2.geowarehouse.ca
SUMMARY:HoodQ Reports & School Catchment Mapping
DESCRIPTION:
URL:https://www2.geowarehouse.ca/session/hoodq-reports-school-catchment-mapping-12/
ATTACH;FMTTYPE=image/jpeg:https://www2.geowarehouse.ca/wp-content/uploads/2012/11/GW-Generic-Blog-Thumbnail-1200x627_v02.jpg
END:VEVENT
BEGIN:VEVENT
DTSTART;TZID=America/Toronto:20250526T130000
DTEND;TZID=America/Toronto:20250526T133000
DTSTAMP:20260422T200541
CREATED:20250429T131920Z
LAST-MODIFIED:20250429T131920Z
UID:10000413-1748264400-1748266200@www2.geowarehouse.ca
SUMMARY:Protect Your Commission with GeoWarehouse - Agent Edition
DESCRIPTION:
URL:https://www2.geowarehouse.ca/session/protect-your-commission-with-geowarehouse-agent-edition-8/
CATEGORIES:Agents Only,Protect Your Commission with GeoWarehouse
ATTACH;FMTTYPE=image/jpeg:https://www2.geowarehouse.ca/wp-content/uploads/2012/11/GW-Generic-Blog-Thumbnail-1200x627_v02.jpg
END:VEVENT
BEGIN:VEVENT
DTSTART;TZID=America/Toronto:20250513T150000
DTEND;TZID=America/Toronto:20250513T153000
DTSTAMP:20260422T200541
CREATED:20250331T181859Z
LAST-MODIFIED:20250404T183824Z
UID:10000403-1747148400-1747150200@www2.geowarehouse.ca
SUMMARY:Teranet Property Insights Report
DESCRIPTION:
URL:https://www2.geowarehouse.ca/session/teranet-property-insights-report-2/
ATTACH;FMTTYPE=image/jpeg:https://www2.geowarehouse.ca/wp-content/uploads/2012/11/GW-Generic-Blog-Thumbnail-1200x627_v02.jpg
END:VEVENT
BEGIN:VEVENT
DTSTART;TZID=America/Toronto:20250513T140000
DTEND;TZID=America/Toronto:20250513T143000
DTSTAMP:20260422T200541
CREATED:20250331T181013Z
LAST-MODIFIED:20250404T183858Z
UID:10000392-1747144800-1747146600@www2.geowarehouse.ca
SUMMARY:Protect Your Commission with GeoWarehouse - Agent Edition
DESCRIPTION:
URL:https://www2.geowarehouse.ca/session/protect-your-commission-with-geowarehouse-agent-edition-5/
CATEGORIES:Agents Only
ATTACH;FMTTYPE=image/jpeg:https://www2.geowarehouse.ca/wp-content/uploads/2012/11/GW-Generic-Blog-Thumbnail-1200x627_v02.jpg
END:VEVENT
BEGIN:VEVENT
DTSTART;TZID=America/Toronto:20250508T110000
DTEND;TZID=America/Toronto:20250508T123000
DTSTAMP:20260422T200541
CREATED:20250331T181352Z
LAST-MODIFIED:20250404T183902Z
UID:10000396-1746702000-1746707400@www2.geowarehouse.ca
SUMMARY:Getting Started with GeoWarehouse
DESCRIPTION:
URL:https://www2.geowarehouse.ca/session/getting-started-with-geowarehouse-24/
ATTACH;FMTTYPE=image/jpeg:https://www2.geowarehouse.ca/wp-content/uploads/2012/11/GW-Generic-Blog-Thumbnail-1200x627_v02.jpg
END:VEVENT
BEGIN:VEVENT
DTSTART;TZID=America/Toronto:20250507T153000
DTEND;TZID=America/Toronto:20250507T160000
DTSTAMP:20260422T200541
CREATED:20250331T182320Z
LAST-MODIFIED:20250404T183905Z
UID:10000409-1746631800-1746633600@www2.geowarehouse.ca
SUMMARY:Protect Your Boundaries™ Reports
DESCRIPTION:
URL:https://www2.geowarehouse.ca/session/protect-your-boundaries-reports-19/
ATTACH;FMTTYPE=image/jpeg:https://www2.geowarehouse.ca/wp-content/uploads/2012/11/GW-Generic-Blog-Thumbnail-1200x627_v02.jpg
END:VEVENT
BEGIN:VEVENT
DTSTART;TZID=America/Toronto:20250507T140000
DTEND;TZID=America/Toronto:20250507T153000
DTSTAMP:20260422T200541
CREATED:20250331T175920Z
LAST-MODIFIED:20250404T183908Z
UID:10000382-1746626400-1746631800@www2.geowarehouse.ca
SUMMARY:Getting Started with GeoWarehouse For Agents
DESCRIPTION:
URL:https://www2.geowarehouse.ca/session/getting-started-with-geowarehouse-for-agents-4/
CATEGORIES:Agents Only
ATTACH;FMTTYPE=image/jpeg:https://www2.geowarehouse.ca/wp-content/uploads/2012/11/GW-Generic-Blog-Thumbnail-1200x627_v02.jpg
END:VEVENT
BEGIN:VEVENT
DTSTART;TZID=America/Toronto:20250506T150000
DTEND;TZID=America/Toronto:20250506T153000
DTSTAMP:20260422T200541
CREATED:20250331T182121Z
LAST-MODIFIED:20250404T183912Z
UID:10000406-1746543600-1746545400@www2.geowarehouse.ca
SUMMARY:Residential Relocation Reports
DESCRIPTION:
URL:https://www2.geowarehouse.ca/session/residential-relocation-reports-23/
ATTACH;FMTTYPE=image/jpeg:https://www2.geowarehouse.ca/wp-content/uploads/2012/11/GW-Generic-Blog-Thumbnail-1200x627_v02.jpg
END:VEVENT
END:VCALENDAR