BEGIN:VCALENDAR
VERSION:2.0
PRODID:-//Welcome to GeoWarehouse - ECPv6.15.20//NONSGML v1.0//EN
CALSCALE:GREGORIAN
METHOD:PUBLISH
X-WR-CALNAME:Welcome to GeoWarehouse
X-ORIGINAL-URL:https://www2.geowarehouse.ca
X-WR-CALDESC:Events for Welcome to GeoWarehouse
REFRESH-INTERVAL;VALUE=DURATION:PT1H
X-Robots-Tag:noindex
X-PUBLISHED-TTL:PT1H
BEGIN:VTIMEZONE
TZID:America/Toronto
BEGIN:DAYLIGHT
TZOFFSETFROM:-0500
TZOFFSETTO:-0400
TZNAME:EDT
DTSTART:20250309T070000
END:DAYLIGHT
BEGIN:STANDARD
TZOFFSETFROM:-0400
TZOFFSETTO:-0500
TZNAME:EST
DTSTART:20251102T060000
END:STANDARD
BEGIN:DAYLIGHT
TZOFFSETFROM:-0500
TZOFFSETTO:-0400
TZNAME:EDT
DTSTART:20260308T070000
END:DAYLIGHT
BEGIN:STANDARD
TZOFFSETFROM:-0400
TZOFFSETTO:-0500
TZNAME:EST
DTSTART:20261101T060000
END:STANDARD
BEGIN:DAYLIGHT
TZOFFSETFROM:-0500
TZOFFSETTO:-0400
TZNAME:EDT
DTSTART:20270314T070000
END:DAYLIGHT
BEGIN:STANDARD
TZOFFSETFROM:-0400
TZOFFSETTO:-0500
TZNAME:EST
DTSTART:20271107T060000
END:STANDARD
END:VTIMEZONE
BEGIN:VEVENT
DTSTART;TZID=America/Toronto:20260302T130000
DTEND;TZID=America/Toronto:20260302T140000
DTSTAMP:20260424T045510
CREATED:20260213T172705Z
LAST-MODIFIED:20260213T172705Z
UID:10000538-1772456400-1772460000@www2.geowarehouse.ca
SUMMARY:Getting Started with GeoWarehouse- Search Fundamentals
DESCRIPTION:
URL:https://www2.geowarehouse.ca/session/getting-started-with-geowarehouse-search-fundamentals/
ATTACH;FMTTYPE=image/jpeg:https://www2.geowarehouse.ca/wp-content/uploads/2012/11/GW-Generic-Blog-Thumbnail-1200x627_v02.jpg
END:VEVENT
BEGIN:VEVENT
DTSTART;TZID=America/Toronto:20260304T130000
DTEND;TZID=America/Toronto:20260304T140000
DTSTAMP:20260424T045510
CREATED:20260127T185604Z
LAST-MODIFIED:20260127T190422Z
UID:10000528-1772629200-1772632800@www2.geowarehouse.ca
SUMMARY:Protect Your Commission with Teranet Tools
DESCRIPTION:
URL:https://www2.geowarehouse.ca/session/protect-your-commission-with-teranet-tools-3/
CATEGORIES:Agents Only,Real Estate
ATTACH;FMTTYPE=image/jpeg:https://www2.geowarehouse.ca/wp-content/uploads/2012/11/GW-Generic-Blog-Thumbnail-1200x627_v02.jpg
END:VEVENT
BEGIN:VEVENT
DTSTART;TZID=America/Toronto:20260311T130000
DTEND;TZID=America/Toronto:20260311T140000
DTSTAMP:20260424T045510
CREATED:20260127T191230Z
LAST-MODIFIED:20260127T191230Z
UID:10000529-1773234000-1773237600@www2.geowarehouse.ca
SUMMARY:GeoWarehouse: Essentials for Successful Listings
DESCRIPTION:
URL:https://www2.geowarehouse.ca/session/geowarehouse-essentials-for-successful-listings-2/
CATEGORIES:Agents Only,Real Estate
ATTACH;FMTTYPE=image/jpeg:https://www2.geowarehouse.ca/wp-content/uploads/2012/11/GW-Generic-Blog-Thumbnail-1200x627_v02.jpg
END:VEVENT
BEGIN:VEVENT
DTSTART;TZID=America/Toronto:20260318T130000
DTEND;TZID=America/Toronto:20260318T140000
DTSTAMP:20260424T045510
CREATED:20260130T163612Z
LAST-MODIFIED:20260130T164246Z
UID:10000531-1773838800-1773842400@www2.geowarehouse.ca
SUMMARY:Understanding Land Information with Teranet Tools
DESCRIPTION:
URL:https://www2.geowarehouse.ca/session/understanding-land-information-with-teranet-tools-2/
CATEGORIES:Agents Only,Real Estate
ATTACH;FMTTYPE=image/jpeg:https://www2.geowarehouse.ca/wp-content/uploads/2012/11/GW-Generic-Blog-Thumbnail-1200x627_v02.jpg
END:VEVENT
BEGIN:VEVENT
DTSTART;TZID=America/Toronto:20260323T100000
DTEND;TZID=America/Toronto:20260323T110000
DTSTAMP:20260424T045510
CREATED:20260213T172905Z
LAST-MODIFIED:20260213T172905Z
UID:10000539-1774260000-1774263600@www2.geowarehouse.ca
SUMMARY:Getting Started with GeoWarehouse- Search Fundamentals
DESCRIPTION:
URL:https://www2.geowarehouse.ca/session/getting-started-with-geowarehouse-search-fundamentals-2/
ATTACH;FMTTYPE=image/jpeg:https://www2.geowarehouse.ca/wp-content/uploads/2012/11/GW-Generic-Blog-Thumbnail-1200x627_v02.jpg
END:VEVENT
BEGIN:VEVENT
DTSTART;TZID=America/Toronto:20260324T100000
DTEND;TZID=America/Toronto:20260324T110000
DTSTAMP:20260424T045510
CREATED:20260213T173721Z
LAST-MODIFIED:20260213T173721Z
UID:10000546-1774346400-1774350000@www2.geowarehouse.ca
SUMMARY:Additional Due Diligence: Land Registry Essentials
DESCRIPTION:
URL:https://www2.geowarehouse.ca/session/additional-due-diligence-land-registry-essentials-5/
ATTACH;FMTTYPE=image/jpeg:https://www2.geowarehouse.ca/wp-content/uploads/2012/11/GW-Generic-Blog-Thumbnail-1200x627_v02.jpg
END:VEVENT
BEGIN:VEVENT
DTSTART;TZID=America/Toronto:20260324T130000
DTEND;TZID=America/Toronto:20260324T140000
DTSTAMP:20260424T045510
CREATED:20260213T174039Z
LAST-MODIFIED:20260213T174039Z
UID:10000549-1774357200-1774360800@www2.geowarehouse.ca
SUMMARY:Mastering Condo Searches with GeoWarehouse
DESCRIPTION:
URL:https://www2.geowarehouse.ca/session/mastering-condo-searches-with-geowarehouse-5/
ATTACH;FMTTYPE=image/jpeg:https://www2.geowarehouse.ca/wp-content/uploads/2012/11/GW-Generic-Blog-Thumbnail-1200x627_v02.jpg
END:VEVENT
BEGIN:VEVENT
DTSTART;TZID=America/Toronto:20260325T100000
DTEND;TZID=America/Toronto:20260325T110000
DTSTAMP:20260424T045510
CREATED:20260213T173303Z
LAST-MODIFIED:20260213T173303Z
UID:10000543-1774432800-1774436400@www2.geowarehouse.ca
SUMMARY:Mastering GeoWarehouse- Advanced Techniques
DESCRIPTION:
URL:https://www2.geowarehouse.ca/session/mastering-geowarehouse-advanced-techniques/
ATTACH;FMTTYPE=image/jpeg:https://www2.geowarehouse.ca/wp-content/uploads/2012/11/GW-Generic-Blog-Thumbnail-1200x627_v02.jpg
END:VEVENT
BEGIN:VEVENT
DTSTART;TZID=America/Toronto:20260325T130000
DTEND;TZID=America/Toronto:20260325T140000
DTSTAMP:20260424T045510
CREATED:20260127T191344Z
LAST-MODIFIED:20260127T191619Z
UID:10000530-1774443600-1774447200@www2.geowarehouse.ca
SUMMARY:GeoWarehouse for Confident Buyer Decisions
DESCRIPTION:
URL:https://www2.geowarehouse.ca/session/geowarehouse-for-confident-buyer-decisions-2/
CATEGORIES:Agents Only,Real Estate
ATTACH;FMTTYPE=image/jpeg:https://www2.geowarehouse.ca/wp-content/uploads/2012/11/GW-Generic-Blog-Thumbnail-1200x627_v02.jpg
END:VEVENT
END:VCALENDAR